BEGIN:VCALENDAR
VERSION:2.0
PRODID:-//JCP Downtown - ECPv6.15.20//NONSGML v1.0//EN
CALSCALE:GREGORIAN
METHOD:PUBLISH
X-ORIGINAL-URL:https://jcpdowntown.org
X-WR-CALDESC:Events for JCP Downtown
REFRESH-INTERVAL;VALUE=DURATION:PT1H
X-Robots-Tag:noindex
X-PUBLISHED-TTL:PT1H
BEGIN:VTIMEZONE
TZID:America/New_York
BEGIN:DAYLIGHT
TZOFFSETFROM:-0500
TZOFFSETTO:-0400
TZNAME:EDT
DTSTART:20230312T070000
END:DAYLIGHT
BEGIN:STANDARD
TZOFFSETFROM:-0400
TZOFFSETTO:-0500
TZNAME:EST
DTSTART:20231105T060000
END:STANDARD
BEGIN:DAYLIGHT
TZOFFSETFROM:-0500
TZOFFSETTO:-0400
TZNAME:EDT
DTSTART:20240310T070000
END:DAYLIGHT
BEGIN:STANDARD
TZOFFSETFROM:-0400
TZOFFSETTO:-0500
TZNAME:EST
DTSTART:20241103T060000
END:STANDARD
BEGIN:DAYLIGHT
TZOFFSETFROM:-0500
TZOFFSETTO:-0400
TZNAME:EDT
DTSTART:20250309T070000
END:DAYLIGHT
BEGIN:STANDARD
TZOFFSETFROM:-0400
TZOFFSETTO:-0500
TZNAME:EST
DTSTART:20251102T060000
END:STANDARD
END:VTIMEZONE
BEGIN:VEVENT
DTSTART;TZID=America/New_York:20241004T180000
DTEND;TZID=America/New_York:20241004T200000
DTSTAMP:20260422T115737
CREATED:20240723T144627Z
LAST-MODIFIED:20240723T144627Z
UID:10000263-1728064800-1728072000@jcpdowntown.org
SUMMARY:Friday Evening Shabbat Home-Hosted Service
DESCRIPTION:Join Rabbi Deena Silverstone and Musician-in-Residence Molly Rose Hoenig to celebrate Shabbat at 6:00 p.m.
URL:https://jcpdowntown.org/events/friday-evening-shabbat-home-hosted-service/
CATEGORIES:Community Events & Volunteering,Jewish Holidays,Shabbat Services
ATTACH;FMTTYPE=image/png:https://jcpdowntown.org/wp-content/uploads/2023/08/Friday-Evening-Shabbat-Service.png
END:VEVENT
BEGIN:VEVENT
DTSTART;TZID=America/New_York:20241010T160000
DTEND;TZID=America/New_York:20241010T170000
DTSTAMP:20260422T115737
CREATED:20240723T145803Z
LAST-MODIFIED:20240903T161854Z
UID:10000267-1728576000-1728579600@jcpdowntown.org
SUMMARY:Sing with Suzi
DESCRIPTION:Attend an interactive and upbeat sing-along starring Suzi Shelton\, an award-winning children’s recording artist! This musical performance is for children up to age five and includes a snack. \nRegister here!
URL:https://jcpdowntown.org/events/sing-with-suzi-9/
LOCATION:JCP Downtown | 146 Duane St.\, 146 Duane Street\, New York\, NY\, 10013\, United States
CATEGORIES:Community Events & Volunteering,Early Childhood
ATTACH;FMTTYPE=image/png:https://jcpdowntown.org/wp-content/uploads/2023/06/SingWithSuziFlyer2023.png
END:VEVENT
BEGIN:VEVENT
DTSTART;TZID=America/New_York:20241012T160000
DTEND;TZID=America/New_York:20241012T170000
DTSTAMP:20260422T115737
CREATED:20240827T213353Z
LAST-MODIFIED:20240920T145437Z
UID:10000288-1728748800-1728752400@jcpdowntown.org
SUMMARY:Adult Learning Opportunity
DESCRIPTION:“Pidyon shvuyim  or “redeeming captives” is a great mitzvah (commandment) in Jewish tradition. Join Rabbi Deena for learning and discussion about what Jewish law and wisdom teach about this topic\, which is tragically relevant today.” Join Rabbi Deena and JCP community members for a discussion. \nJCP Full Members register here \nJCP Flex Members and Non-Members register here
URL:https://jcpdowntown.org/events/adult-learning-opportunity-2/
CATEGORIES:Community Events & Volunteering,Jewish Holidays
ATTACH;FMTTYPE=image/png:https://jcpdowntown.org/wp-content/uploads/2023/06/ADULT_LEARNING.png
END:VEVENT
BEGIN:VEVENT
DTSTART;TZID=America/New_York:20241020T100000
DTEND;TZID=America/New_York:20241020T113000
DTSTAMP:20260422T115737
CREATED:20240723T164744Z
LAST-MODIFIED:20241009T181036Z
UID:10000272-1729418400-1729423800@jcpdowntown.org
SUMMARY:Tot Sukkot on Sunday
DESCRIPTION:Celebrate Sukkot at JCP with music\, dancing\, and a bagel breakfast! Families with young children can join Rabbi Deena and Musician-in-Residence Molly Rose at 146 Duane Street for a fun and festive morning. \nClick here to register!
URL:https://jcpdowntown.org/events/tot-sukkot-on-sunday-3/
CATEGORIES:Community Events & Volunteering,Early Childhood,Jewish Holidays
ATTACH;FMTTYPE=image/png:https://jcpdowntown.org/wp-content/uploads/2023/09/16x9.png
END:VEVENT
END:VCALENDAR