BEGIN:VCALENDAR
VERSION:2.0
PRODID:-//JCP Downtown - ECPv6.15.20//NONSGML v1.0//EN
CALSCALE:GREGORIAN
METHOD:PUBLISH
X-WR-CALNAME:JCP Downtown
X-ORIGINAL-URL:https://jcpdowntown.org
X-WR-CALDESC:Events for JCP Downtown
REFRESH-INTERVAL;VALUE=DURATION:PT1H
X-Robots-Tag:noindex
X-PUBLISHED-TTL:PT1H
BEGIN:VTIMEZONE
TZID:America/New_York
BEGIN:DAYLIGHT
TZOFFSETFROM:-0500
TZOFFSETTO:-0400
TZNAME:EDT
DTSTART:20230312T070000
END:DAYLIGHT
BEGIN:STANDARD
TZOFFSETFROM:-0400
TZOFFSETTO:-0500
TZNAME:EST
DTSTART:20231105T060000
END:STANDARD
BEGIN:DAYLIGHT
TZOFFSETFROM:-0500
TZOFFSETTO:-0400
TZNAME:EDT
DTSTART:20240310T070000
END:DAYLIGHT
BEGIN:STANDARD
TZOFFSETFROM:-0400
TZOFFSETTO:-0500
TZNAME:EST
DTSTART:20241103T060000
END:STANDARD
BEGIN:DAYLIGHT
TZOFFSETFROM:-0500
TZOFFSETTO:-0400
TZNAME:EDT
DTSTART:20250309T070000
END:DAYLIGHT
BEGIN:STANDARD
TZOFFSETFROM:-0400
TZOFFSETTO:-0500
TZNAME:EST
DTSTART:20251102T060000
END:STANDARD
END:VTIMEZONE
BEGIN:VEVENT
DTSTART;TZID=America/New_York:20240531T180000
DTEND;TZID=America/New_York:20240531T190000
DTSTAMP:20260419T112057
CREATED:20240220T203517Z
LAST-MODIFIED:20240220T203517Z
UID:10000215-1717178400-1717182000@jcpdowntown.org
SUMMARY:Friday Evening Shabbat Service
DESCRIPTION:Join Rabbi Deena Silverstone and Musician-in-Residence Molly Rose Hoenig to celebrate Shabbat at 6:00 p.m\, located at 146 Duane Street.
URL:https://jcpdowntown.org/events/friday-evening-shabbat-service-16/
LOCATION:JCP Downtown | 146 Duane St.\, 146 Duane Street\, New York\, NY\, 10013\, United States
CATEGORIES:Community Events & Volunteering,Jewish Holidays,Shabbat Services
ATTACH;FMTTYPE=image/png:https://jcpdowntown.org/wp-content/uploads/2023/08/Friday-Evening-Shabbat-Service.png
END:VEVENT
BEGIN:VEVENT
DTSTART;TZID=America/New_York:20240528T190000
DTEND;TZID=America/New_York:20240528T203000
DTSTAMP:20260419T112057
CREATED:20240319T130242Z
LAST-MODIFIED:20240418T151727Z
UID:10000233-1716922800-1716928200@jcpdowntown.org
SUMMARY:Foundations of Judaism
DESCRIPTION:Rabbi Deena and Rabbi Sam are excited to offer a comprehensive five-week course on Jewish values. Taught in an informal seminar style with a focus on text study\, we will explore the resonance of core Jewish values for our lives today in the twenty-first century. Through open conversation and dialogue\, we’ll dive into topics including gratitude\, generosity\, belonging\, and more. The course is open to all; no Jewish background necessary. Register here. \nDates: Tuesday\, April 16; Tuesday\, May 7; Monday\, May 13; Monday\, May 20; Tuesday\, May 28. Class meets from 7:00-8:30pm at 146 Duane Street. \n\nTuesday\, April 16 — Jewish Value 1: Gratitude – Hoda’ah\nTuesday\, May 7 — Jewish Value 2: Giving – Tzedakah \nMonday\, May 13 — Jewish Value 3: Israel and Belonging to the Jewish People – Kol Yisrael Arevim Zeh Ba’Zeh \nMonday\, May 20 — Jewish Value 4: Rest – Shabbat\nTuesday\, May 28 — Jewish Value 5: Continuing the Conversation – She’eilah 
URL:https://jcpdowntown.org/events/foundations-of-judaism-may-28-2024/
LOCATION:JCP Downtown | 146 Duane St.\, 146 Duane Street\, New York\, NY\, 10013\, United States
CATEGORIES:Adult Programming
ATTACH;FMTTYPE=image/png:https://jcpdowntown.org/wp-content/uploads/2024/01/Foundations-of-Judaism.png
END:VEVENT
BEGIN:VEVENT
DTSTART;TZID=America/New_York:20240528T123000
DTEND;TZID=America/New_York:20240528T133000
DTSTAMP:20260419T112057
CREATED:20241018T162035Z
LAST-MODIFIED:20241018T162035Z
UID:10000313-1716899400-1716903000@jcpdowntown.org
SUMMARY:Grandparent Reading Group
DESCRIPTION:Join other grandparents in the JCP community for an enriching book discussion on Zoom\, led by one of JCP’s rabbis. \nEmail rabbi@jcpdowntown.org to participate.
URL:https://jcpdowntown.org/events/grandparent-reading-group-10/
LOCATION:NY
CATEGORIES:Adult Programming,Community Events & Volunteering
ATTACH;FMTTYPE=image/png:https://jcpdowntown.org/wp-content/uploads/2023/08/Grandparent-Reading-Group-3.png
END:VEVENT
BEGIN:VEVENT
DTSTART;TZID=America/New_York:20240524T180000
DTEND;TZID=America/New_York:20240524T183000
DTSTAMP:20260419T112057
CREATED:20240220T203331Z
LAST-MODIFIED:20240220T203331Z
UID:10000214-1716573600-1716575400@jcpdowntown.org
SUMMARY:Instagram Live Shabbat Service
DESCRIPTION:Join JCP on Instagram Live to celebrate Shabbat at 6:00 p.m.
URL:https://jcpdowntown.org/events/instagram-live-shabbat-service-18/
LOCATION:NY
CATEGORIES:Community Events & Volunteering,Shabbat Services
ATTACH;FMTTYPE=image/png:https://jcpdowntown.org/wp-content/uploads/2023/01/Friday-Evening-Shabbat-Service.png
END:VEVENT
BEGIN:VEVENT
DTSTART;TZID=America/New_York:20240521T190000
DTEND;TZID=America/New_York:20240521T210000
DTSTAMP:20260419T112057
CREATED:20240223T212013Z
LAST-MODIFIED:20240425T215256Z
UID:10000224-1716318000-1716325200@jcpdowntown.org
SUMMARY:Home-Hosted Challah Baking Workshop
DESCRIPTION:Get ready to roll up your sleeves\, knead some dough\, and make your very own traditional challahs! JCP community members Erica Marks and Shara Levy will lead a fun workshop on challah baking at this home-hosted JCP event. Cocktails and light bites will be served. Everyone will leave with their own challah to bring home and enjoy with their families! This event is generously sponsored by Dori Friedman.  \n[wpforms id=”9302″]
URL:https://jcpdowntown.org/events/challah-baking-may-2024/
LOCATION:NY
CATEGORIES:Adult Programming
ATTACH;FMTTYPE=image/png:https://jcpdowntown.org/wp-content/uploads/2023/10/Home-Hosted-Challah-Baking-Workshop.png
END:VEVENT
BEGIN:VEVENT
DTSTART;TZID=America/New_York:20240520T190000
DTEND;TZID=America/New_York:20240520T203000
DTSTAMP:20260419T112057
CREATED:20240319T130145Z
LAST-MODIFIED:20240319T130201Z
UID:10000232-1716231600-1716237000@jcpdowntown.org
SUMMARY:Foundations of Judaism
DESCRIPTION:Rabbi Deena and Rabbi Sam are excited to offer a comprehensive five-week course on Jewish values. Taught in an informal seminar style with a focus on text study\, we will explore the resonance of core Jewish values for our lives today in the twenty-first century. Through open conversation and dialogue\, we’ll dive into topics including gratitude\, generosity\, belonging\, and more. The course is open to all; no Jewish background necessary. Register here. \nDates: Tuesday\, April 16; Tuesday\, May 7; Monday\, May 13; Monday\, May 20; Tuesday\, May 28. Class meets from 7:00-8:30pm at 146 Duane Street. \n\nTuesday\, April 16 — Jewish Value 1: Gratitude – Hoda’ah\nTuesday\, May 7 — Jewish Value 2: Giving – Tzedakah \nMonday\, May 13 — Jewish Value 3: Israel and Belonging to the Jewish People – Kol Yisrael Arevim Zeh Ba’Zeh \nMonday\, May 20 — Jewish Value 4: Rest – Shabbat\nTuesday\, May 28 — Jewish Value 5: Continuing the Conversation – She’eilah 
URL:https://jcpdowntown.org/events/foundations-of-judaism-may-20-2024/
LOCATION:JCP Downtown | 146 Duane St.\, 146 Duane Street\, New York\, NY\, 10013\, United States
CATEGORIES:Adult Programming
ATTACH;FMTTYPE=image/png:https://jcpdowntown.org/wp-content/uploads/2024/01/Foundations-of-Judaism.png
END:VEVENT
BEGIN:VEVENT
DTSTART;TZID=America/New_York:20240520T100000
DTEND;TZID=America/New_York:20240520T110000
DTSTAMP:20260419T112057
CREATED:20240512T212622Z
LAST-MODIFIED:20240513T125844Z
UID:10000241-1716199200-1716202800@jcpdowntown.org
SUMMARY:Private Viewing of the Nova Music Festival Exhibition
DESCRIPTION:Join a private viewing of the Nova Music Festival Exhibition before normal operating hours. Walk through a powerful exhibit to bear witness to the horrific events that occurred on 10/7 at the Nova Music Festival. The Exhibition is located downtown at 35 Wall Street. Friends and family are welcome to join. Individual registration for each guest is requested. \nThe Exhibition is recommended for ages 16+ due to the sensitive and graphic nature of some of the content. \nRegister here.
URL:https://jcpdowntown.org/events/nova-music-festival-exhibition-2024/
LOCATION:NY
CATEGORIES:Adult Programming,Community Events & Volunteering
ATTACH;FMTTYPE=image/png:https://jcpdowntown.org/wp-content/uploads/2024/05/Private-Viewing-of-Nova-Festival-Exhibition-1.png
END:VEVENT
BEGIN:VEVENT
DTSTART;TZID=America/New_York:20240518T090000
DTEND;TZID=America/New_York:20240518T120000
DTSTAMP:20260419T112057
CREATED:20240223T205701Z
LAST-MODIFIED:20240223T211559Z
UID:10000223-1716022800-1716033600@jcpdowntown.org
SUMMARY:Grassroots Groceries Community Service Event
DESCRIPTION:Join JCP families and friends on Saturday\, May 18\, for a family-friendly morning of impact in the Bronx! Learn more and register here.
URL:https://jcpdowntown.org/events/grassroots-groceries-2024/
LOCATION:NY
CATEGORIES:Adult Programming,Community Events & Volunteering
ATTACH;FMTTYPE=image/png:https://jcpdowntown.org/wp-content/uploads/2024/02/Spring-Shopping-Breakfast-Event-jAcadi-x-JCP-2.png
END:VEVENT
BEGIN:VEVENT
DTSTART;TZID=America/New_York:20240517T114500
DTEND;TZID=America/New_York:20240517T123000
DTSTAMP:20260419T112057
CREATED:20240220T195644Z
LAST-MODIFIED:20240220T195644Z
UID:10000211-1715946300-1715949000@jcpdowntown.org
SUMMARY:Babies & Blessings
DESCRIPTION:In this class led by Rabbi Deena\, babies and their caregivers gather weekly to sing songs\, read stories\, and dance together. This class is a wonderful introduction to JCP’s preschool and Jewish life programs. The Winter/Spring 2024 session meets from 11:45am-12:30pm on Fridays\, January 19 to May 17. Register here.
URL:https://jcpdowntown.org/events/babies-blessings-14/
LOCATION:NY
CATEGORIES:Early Childhood
ATTACH;FMTTYPE=image/jpeg:https://jcpdowntown.org/wp-content/uploads/2023/06/ECC_BabiesAndBlessings_V2.jpg
END:VEVENT
BEGIN:VEVENT
DTSTART;TZID=America/New_York:20240515T110000
DTEND;TZID=America/New_York:20240515T120000
DTSTAMP:20260419T112057
CREATED:20240123T190816Z
LAST-MODIFIED:20240123T192141Z
UID:10000180-1715770800-1715774400@jcpdowntown.org
SUMMARY:Women's Torah Study
DESCRIPTION:Our Women’s Torah Study class is back this year at JCP! Join us for meaningful learning and community building in discussions led by one of JCP’s rabbis. \nRegister here.
URL:https://jcpdowntown.org/events/womens-torah-study-may-15/
LOCATION:JCP Downtown | 146 Duane St.\, 146 Duane Street\, New York\, NY\, 10013\, United States
CATEGORIES:Adult Programming
ATTACH;FMTTYPE=image/jpeg:https://jcpdowntown.org/wp-content/uploads/2023/08/Womens-Torah-Study-2023-Final_3.jpg
END:VEVENT
BEGIN:VEVENT
DTSTART;TZID=America/New_York:20240514T190000
DTEND;TZID=America/New_York:20240514T213000
DTSTAMP:20260419T112057
CREATED:20240223T215328Z
LAST-MODIFIED:20240514T152755Z
UID:10000229-1715713200-1715722200@jcpdowntown.org
SUMMARY:Home-Hosted Yom Haatzmaut Celebration
DESCRIPTION:Join JCP for a home-hosted Yom Haatzmaut Celebration! We’ll enjoy cocktails and Israeli bites together\, followed by a discussion to learn from those who participated in JCP’s Solidarity Mission Trip to Israel as they share their experiences and insights.  \n[wpforms id=”9286″] \n 
URL:https://jcpdowntown.org/events/yom-haatzmaut-celebration-2024/
LOCATION:NY
CATEGORIES:Adult Programming
ATTACH;FMTTYPE=image/png:https://jcpdowntown.org/wp-content/uploads/2024/02/Yom-Haatzmaut-Celebration-2024-1.png
END:VEVENT
BEGIN:VEVENT
DTSTART;TZID=America/New_York:20240513T190000
DTEND;TZID=America/New_York:20240513T203000
DTSTAMP:20260419T112057
CREATED:20240205T155621Z
LAST-MODIFIED:20240319T125921Z
UID:10000189-1715626800-1715632200@jcpdowntown.org
SUMMARY:Foundations of Judaism
DESCRIPTION:Rabbi Deena and Rabbi Sam are excited to offer a comprehensive five-week course on Jewish values. Taught in an informal seminar style with a focus on text study\, we will explore the resonance of core Jewish values for our lives today in the twenty-first century. Through open conversation and dialogue\, we’ll dive into topics including gratitude\, generosity\, belonging\, and more. The course is open to all; no Jewish background necessary. Register here. \nDates: Tuesday\, April 16; Tuesday\, May 7; Monday\, May 13; Monday\, May 20; Tuesday\, May 28. Class meets from 7:00-8:30pm at 146 Duane Street. \n\nTuesday\, April 16 — Jewish Value 1: Gratitude – Hoda’ah\nTuesday\, May 7 — Jewish Value 2: Giving – Tzedakah \nMonday\, May 13 — Jewish Value 3: Israel and Belonging to the Jewish People – Kol Yisrael Arevim Zeh Ba’Zeh \nMonday\, May 20 — Jewish Value 4: Rest – Shabbat\nTuesday\, May 28 — Jewish Value 5: Continuing the Conversation – She’eilah 
URL:https://jcpdowntown.org/events/foundations-of-judaism-may-13-2024/
LOCATION:JCP Downtown | 146 Duane St.\, 146 Duane Street\, New York\, NY\, 10013\, United States
CATEGORIES:Adult Programming
ATTACH;FMTTYPE=image/png:https://jcpdowntown.org/wp-content/uploads/2024/01/Foundations-of-Judaism.png
END:VEVENT
BEGIN:VEVENT
DTSTART;TZID=America/New_York:20240510T180000
DTEND;TZID=America/New_York:20240510T190000
DTSTAMP:20260419T112057
CREATED:20240220T202608Z
LAST-MODIFIED:20240220T203139Z
UID:10000213-1715364000-1715367600@jcpdowntown.org
SUMMARY:Friday Evening Shabbat Service
DESCRIPTION:Join Rabbi Deena Silverstone and Musician-in-Residence Molly Rose Hoenig to celebrate Shabbat at 6:00 p.m\, located at 146 Duane Street.
URL:https://jcpdowntown.org/events/friday-evening-shabbat-service-15/
LOCATION:JCP Downtown | 146 Duane St.\, 146 Duane Street\, New York\, NY\, 10013\, United States
CATEGORIES:Community Events & Volunteering,Jewish Holidays,Shabbat Services
ATTACH;FMTTYPE=image/png:https://jcpdowntown.org/wp-content/uploads/2023/08/Friday-Evening-Shabbat-Service.png
END:VEVENT
BEGIN:VEVENT
DTSTART;TZID=America/New_York:20240510T114500
DTEND;TZID=America/New_York:20240510T123000
DTSTAMP:20260419T112057
CREATED:20240220T194826Z
LAST-MODIFIED:20240220T194826Z
UID:10000210-1715341500-1715344200@jcpdowntown.org
SUMMARY:Babies & Blessings
DESCRIPTION:In this class led by Rabbi Deena\, babies and their caregivers gather weekly to sing songs\, read stories\, and dance together. This class is a wonderful introduction to JCP’s preschool and Jewish life programs. The Winter/Spring 2024 session meets from 11:45am-12:30pm on Fridays\, January 19 to May 17. Register here.
URL:https://jcpdowntown.org/events/babies-blessings-13/
LOCATION:NY
CATEGORIES:Early Childhood
ATTACH;FMTTYPE=image/jpeg:https://jcpdowntown.org/wp-content/uploads/2023/06/ECC_BabiesAndBlessings_V2.jpg
END:VEVENT
BEGIN:VEVENT
DTSTART;TZID=America/New_York:20240509T160000
DTEND;TZID=America/New_York:20240509T170000
DTSTAMP:20260419T112057
CREATED:20240205T154626Z
LAST-MODIFIED:20240723T155624Z
UID:10000188-1715270400-1715274000@jcpdowntown.org
SUMMARY:Sing with Suzi
DESCRIPTION:Attend an interactive and upbeat sing-along starring Suzi Shelton\, an award-winning children’s recording artist! This musical performance is for children up to age five and includes a snack. \nPrice: $36 per family (non-member); JCP members attend for free! Use code ‘MEMBER’ at checkout. \n[wpforms id=”8359″]
URL:https://jcpdowntown.org/events/sing-with-suzi-may-8/
LOCATION:JCP Downtown | 146 Duane St.\, 146 Duane Street\, New York\, NY\, 10013\, United States
CATEGORIES:Community Events & Volunteering,Early Childhood
ATTACH;FMTTYPE=image/png:https://jcpdowntown.org/wp-content/uploads/2023/06/SingWithSuziFlyer2023.png
END:VEVENT
BEGIN:VEVENT
DTSTART;TZID=America/New_York:20240508T120000
DTEND;TZID=America/New_York:20240508T143000
DTSTAMP:20260419T112057
CREATED:20240326T213908Z
LAST-MODIFIED:20240508T141009Z
UID:10000235-1715169600-1715178600@jcpdowntown.org
SUMMARY:JCP Luncheon in Honor of Mother's Day
DESCRIPTION: Please join us as we celebrate women at a very special JCP Luncheon in honor of Mother’s Day\, featuring a conversation with Elyse Walker\, fashion icon and entrepreneur. Space is limited—reserve your spot. \nThank you to our event hosts: Hannah Bomze\, Alexis Feldman\, Dori Friedman\, Shayna Glaser\, Jessica Jacobs\, Serena Levy\, Sasha Martinez\, Stacy Pollack\, Hanna Richheimer\, and Molly Snyder.
URL:https://jcpdowntown.org/events/jcp-luncheon-2024/
LOCATION:Locanda Verde\, 377 Greenwich Street\, New York\, NY\, 10013\, United States
CATEGORIES:Adult Programming
ATTACH;FMTTYPE=image/png:https://jcpdowntown.org/wp-content/uploads/2024/03/2-1.png
END:VEVENT
BEGIN:VEVENT
DTSTART;TZID=America/New_York:20240507T190000
DTEND;TZID=America/New_York:20240507T203000
DTSTAMP:20260419T112057
CREATED:20240123T193625Z
LAST-MODIFIED:20240319T125847Z
UID:10000182-1715108400-1715113800@jcpdowntown.org
SUMMARY:Foundations of Judaism
DESCRIPTION:Rabbi Deena and Rabbi Sam are excited to offer a comprehensive five-week course on Jewish values. Taught in an informal seminar style with a focus on text study\, we will explore the resonance of core Jewish values for our lives today in the twenty-first century. Through open conversation and dialogue\, we’ll dive into topics including gratitude\, generosity\, belonging\, and more. The course is open to all; no Jewish background necessary. Register here. \nDates: Tuesday\, April 16; Tuesday\, May 7; Monday\, May 13; Monday\, May 20; Tuesday\, May 28. Class meets from 7:00-8:30pm at 146 Duane Street. \n\nTuesday\, April 16 — Jewish Value 1: Gratitude – Hoda’ah\nTuesday\, May 7 — Jewish Value 2: Giving – Tzedakah \nMonday\, May 13 — Jewish Value 3: Israel and Belonging to the Jewish People – Kol Yisrael Arevim Zeh Ba’Zeh \nMonday\, May 20 — Jewish Value 4: Rest – Shabbat\nTuesday\, May 28 — Jewish Value 5: Continuing the Conversation – She’eilah 
URL:https://jcpdowntown.org/events/foundations-of-judaism-may-7-2024/
LOCATION:JCP Downtown | 146 Duane St.\, 146 Duane Street\, New York\, NY\, 10013\, United States
CATEGORIES:Adult Programming
ATTACH;FMTTYPE=image/png:https://jcpdowntown.org/wp-content/uploads/2024/01/Foundations-of-Judaism.png
END:VEVENT
BEGIN:VEVENT
DTSTART;TZID=America/New_York:20240506T180000
DTEND;TZID=America/New_York:20240506T200000
DTSTAMP:20260419T112057
CREATED:20240223T215749Z
LAST-MODIFIED:20240425T213805Z
UID:10000230-1715018400-1715025600@jcpdowntown.org
SUMMARY:Yom HaShoah Speaker Event with Jonathan Pollack
DESCRIPTION:Join the JCP community as member Jonathan Pollack shares his family’s story of Holocaust survival. Located at 146 Duane Street. \n[wpforms id=”9296″]
URL:https://jcpdowntown.org/events/yom-hashoah-speaker-event-with-jonathan-pollack/
LOCATION:NY
CATEGORIES:Adult Programming,Community Events & Volunteering
ATTACH;FMTTYPE=image/png:https://jcpdowntown.org/wp-content/uploads/2024/02/Yom-Hashoah-Speaker-Event-2024.png
END:VEVENT
BEGIN:VEVENT
DTSTART;TZID=America/New_York:20240504T100000
DTEND;TZID=America/New_York:20240504T110000
DTSTAMP:20260419T112057
CREATED:20240223T185537Z
LAST-MODIFIED:20240425T221803Z
UID:10000222-1714816800-1714820400@jcpdowntown.org
SUMMARY:Yom Haatzmaut Tot Shabbat
DESCRIPTION:Celebrate Israel’s Independence Day at our Yom Haatzmaut Tot Shabbat! Come dressed in blue and white to enjoy singing\, dancing\, prayer\, and stories\, followed by grape juice and challah. This event is free of charge.  \n[wpforms id=”8677″] \n 
URL:https://jcpdowntown.org/events/yom-haatzmaut-tot-shabbat/
LOCATION:NY
CATEGORIES:Early Childhood,Jewish Holidays,Shabbat Services
ATTACH;FMTTYPE=image/png:https://jcpdowntown.org/wp-content/uploads/2024/02/Purim-Tot-Shabbat-2.png
END:VEVENT
BEGIN:VEVENT
DTSTART;TZID=America/New_York:20240503T180000
DTEND;TZID=America/New_York:20240503T190000
DTSTAMP:20260419T112057
CREATED:20240220T202353Z
LAST-MODIFIED:20240220T202353Z
UID:10000212-1714759200-1714762800@jcpdowntown.org
SUMMARY:Friday Evening Shabbat Service with HSP High Schoolers
DESCRIPTION:Join Rabbi Deena and our Musician-in-Residence Molly Rose at 146 Duane Street to celebrate Shabbat at 6:00 p.m. Our Hebrew School Project’s high schoolers will be joining the service. 
URL:https://jcpdowntown.org/events/friday-evening-shabbat-service-with-hsp-high-schoolers/
LOCATION:JCP Downtown | 146 Duane St.\, 146 Duane Street\, New York\, NY\, 10013\, United States
CATEGORIES:Community Events & Volunteering,Jewish Holidays,Shabbat Services
ATTACH;FMTTYPE=image/png:https://jcpdowntown.org/wp-content/uploads/2023/08/Friday-Evening-Shabbat-Service.png
END:VEVENT
BEGIN:VEVENT
DTSTART;TZID=America/New_York:20240503T114500
DTEND;TZID=America/New_York:20240503T123000
DTSTAMP:20260419T112057
CREATED:20240220T194625Z
LAST-MODIFIED:20240220T194638Z
UID:10000209-1714736700-1714739400@jcpdowntown.org
SUMMARY:Babies & Blessings
DESCRIPTION:In this class led by Rabbi Deena\, babies and their caregivers gather weekly to sing songs\, read stories\, and dance together. This class is a wonderful introduction to JCP’s preschool and Jewish life programs. The Winter/Spring 2024 session meets from 11:45am-12:30pm on Fridays\, January 19 to May 17. Register here.
URL:https://jcpdowntown.org/events/babies-blessings-12/
LOCATION:NY
CATEGORIES:Early Childhood
ATTACH;FMTTYPE=image/jpeg:https://jcpdowntown.org/wp-content/uploads/2023/06/ECC_BabiesAndBlessings_V2.jpg
END:VEVENT
BEGIN:VEVENT
DTSTART;TZID=America/New_York:20240423T173000
DTEND;TZID=America/New_York:20240423T190000
DTSTAMP:20260419T112057
CREATED:20240223T213916Z
LAST-MODIFIED:20240514T153121Z
UID:10000226-1713893400-1713898800@jcpdowntown.org
SUMMARY:Second Night Seder
DESCRIPTION:Experience an entertaining Seder with a modern twist and the story of Pharaoh and Moses reimagined in NYC\, with special guest Danielle Brody of Jews in Doodles. This is open to all ages and includes dinner!\n\nThe seder will be community-oriented and interactive.\n\nWe’ll follow “Don’t Fu-haggadah-boudit\,” a funny\, timely\, illustrated Haggadah that is written for adults\, but it’s appropriate for all ages\, inclusive for newcomers\, and interactive.\n\nJCP Members—use code “SEDER” for $20 off your ticket! Not a member? Learn more here. \n\n 
URL:https://jcpdowntown.org/events/second-night-seder-2024/
LOCATION:JCP Downtown | 146 Duane St.\, 146 Duane Street\, New York\, NY\, 10013\, United States
CATEGORIES:Adult Programming,Early Childhood,Jewish Holidays,K-12 Programming
ATTACH;FMTTYPE=image/png:https://jcpdowntown.org/wp-content/uploads/2024/02/Second-Night-Seder-2024-3.png
END:VEVENT
BEGIN:VEVENT
DTSTART;TZID=America/New_York:20240419T180000
DTEND;TZID=America/New_York:20240419T183000
DTSTAMP:20260419T112057
CREATED:20240220T190957Z
LAST-MODIFIED:20240220T190957Z
UID:10000201-1713549600-1713551400@jcpdowntown.org
SUMMARY:Instagram Live Shabbat Service
DESCRIPTION:Join Rabbi Deena and Musician-in-Residence Molly Rose on Instagram Live to celebrate Shabbat at 6:00 p.m.
URL:https://jcpdowntown.org/events/instagram-live-shabbat-service-17/
LOCATION:NY
CATEGORIES:Community Events & Volunteering,Shabbat Services
ATTACH;FMTTYPE=image/png:https://jcpdowntown.org/wp-content/uploads/2023/01/Friday-Evening-Shabbat-Service.png
END:VEVENT
BEGIN:VEVENT
DTSTART;TZID=America/New_York:20240419T114500
DTEND;TZID=America/New_York:20240419T123000
DTSTAMP:20260419T112057
CREATED:20240220T194211Z
LAST-MODIFIED:20240220T194211Z
UID:10000208-1713527100-1713529800@jcpdowntown.org
SUMMARY:Babies & Blessings
DESCRIPTION:In this class led by Rabbi Deena\, babies and their caregivers gather weekly to sing songs\, read stories\, and dance together. This class is a wonderful introduction to JCP’s preschool and Jewish life programs. The Winter/Spring 2024 session meets from 11:45am-12:30pm on Fridays\, January 19 to May 17. Register here.
URL:https://jcpdowntown.org/events/babies-blessings-11/
LOCATION:NY
CATEGORIES:Early Childhood
ATTACH;FMTTYPE=image/jpeg:https://jcpdowntown.org/wp-content/uploads/2023/06/ECC_BabiesAndBlessings_V2.jpg
END:VEVENT
BEGIN:VEVENT
DTSTART;TZID=America/New_York:20240418T183000
DTEND;TZID=America/New_York:20240418T230000
DTSTAMP:20260419T112057
CREATED:20231212T202034Z
LAST-MODIFIED:20240412T135304Z
UID:10000164-1713465000-1713481200@jcpdowntown.org
SUMMARY:2024 Annual Benefit
DESCRIPTION:Join us at JCP’s 2024 Annual Benefit to celebrate our honorees\, Aaron Stone and Rachel & Eric Ziff\, and share in the magic of JCP with each other! Click here for tickets\, sponsorships\, and event details. \nStay until 11:00pm to dance the night away with our DJ! Silent Auction closes at midnight.
URL:https://jcpdowntown.org/events/2024-annual-benefit/
LOCATION:Tribeca 360\, 10 Desbrosses St\, New York\, New York\, NY\, 10013\, United States
CATEGORIES:Adult Programming,Community Events & Volunteering
ATTACH;FMTTYPE=image/png:https://jcpdowntown.org/wp-content/uploads/2023/12/2.png
END:VEVENT
BEGIN:VEVENT
DTSTART;TZID=America/New_York:20240416T190000
DTEND;TZID=America/New_York:20240416T203000
DTSTAMP:20260419T112057
CREATED:20240123T223625Z
LAST-MODIFIED:20240319T125818Z
UID:10000183-1713294000-1713299400@jcpdowntown.org
SUMMARY:Foundations of Judaism
DESCRIPTION:Rabbi Deena and Rabbi Sam are excited to offer a comprehensive five-week course on Jewish values. Taught in an informal seminar style with a focus on text study\, we will explore the resonance of core Jewish values for our lives today in the twenty-first century. Through open conversation and dialogue\, we’ll dive into topics including gratitude\, generosity\, belonging\, and more. The course is open to all; no Jewish background necessary. Register here. \nDates: Tuesday\, April 16; Tuesday\, May 7; Monday\, May 13; Monday\, May 20; Tuesday\, May 28. Class meets from 7:00-8:30pm at 146 Duane Street. \n\nTuesday\, April 16 — Jewish Value 1: Gratitude – Hoda’ah\nTuesday\, May 7 — Jewish Value 2: Giving – Tzedakah \nMonday\, May 13 — Jewish Value 3: Israel and Belonging to the Jewish People – Kol Yisrael Arevim Zeh Ba’Zeh \nMonday\, May 20 — Jewish Value 4: Rest – Shabbat\nTuesday\, May 28 — Jewish Value 5: Continuing the Conversation – She’eilah 
URL:https://jcpdowntown.org/events/foundations-of-judaism-april-16-2024/
LOCATION:JCP Downtown | 146 Duane St.\, 146 Duane Street\, New York\, NY\, 10013\, United States
CATEGORIES:Adult Programming
ATTACH;FMTTYPE=image/png:https://jcpdowntown.org/wp-content/uploads/2024/01/Foundations-of-Judaism.png
END:VEVENT
BEGIN:VEVENT
DTSTART;TZID=America/New_York:20240416T123000
DTEND;TZID=America/New_York:20240416T133000
DTSTAMP:20260419T112057
CREATED:20240123T185601Z
LAST-MODIFIED:20240123T191850Z
UID:10000178-1713270600-1713274200@jcpdowntown.org
SUMMARY:Grandparent Reading Group
DESCRIPTION:Join other grandparents in the JCP community for an enriching book discussion on Zoom\, led by one of JCP’s rabbis. We will be reading Spies of No Country by Matti Friedman. \nEmail rabbi@jcpdowntown.org to participate.
URL:https://jcpdowntown.org/events/grandparent-reading-group-april-2024/
LOCATION:NY
CATEGORIES:Adult Programming,Community Events & Volunteering
ATTACH;FMTTYPE=image/png:https://jcpdowntown.org/wp-content/uploads/2023/08/Grandparent-Reading-Group-3.png
END:VEVENT
BEGIN:VEVENT
DTSTART;TZID=America/New_York:20240415T120000
DTEND;TZID=America/New_York:20240415T140000
DTSTAMP:20260419T112057
CREATED:20240223T184551Z
LAST-MODIFIED:20240402T165649Z
UID:10000221-1713182400-1713189600@jcpdowntown.org
SUMMARY:Home-Hosted Women’s Seder
DESCRIPTION:Join us for our third annual JCP Women’s Seder\, where we will have an opportunity to explore themes of the Passover story. This home-hosted event is generously co-sponsored by Rachel Yedid and Molly Snyder. Location will be shared 1-2 days before the event. \nRegister by April 10. Capacity is 32 people. \n[wpforms id=”9152″] \n  \n 
URL:https://jcpdowntown.org/events/womens-seder-2024/
LOCATION:NY
CATEGORIES:Adult Programming,Community Events & Volunteering,Jewish Holidays
ATTACH;FMTTYPE=image/png:https://jcpdowntown.org/wp-content/uploads/2024/02/2024-Womens-Seder-1.png
END:VEVENT
BEGIN:VEVENT
DTSTART;TZID=America/New_York:20240413T100000
DTEND;TZID=America/New_York:20240413T110000
DTSTAMP:20260419T112057
CREATED:20240205T153711Z
LAST-MODIFIED:20240205T153737Z
UID:10000187-1713002400-1713006000@jcpdowntown.org
SUMMARY:Tot Shabbat
DESCRIPTION:Join Rabbi Deena and Musician-in-Residence Molly Rose for a joyful and musical Shabbat morning experience for families with children up to five years of age! Come together for song\, dance\, prayer\, and stories\, followed by grape juice and challah. This event is free of charge.  \n[wpforms id=”8354″] \n 
URL:https://jcpdowntown.org/events/tot-shabbat-april-2024/
LOCATION:JCP Downtown | 146 Duane St.\, 146 Duane Street\, New York\, NY\, 10013\, United States
CATEGORIES:Early Childhood,Shabbat Services
ATTACH;FMTTYPE=image/png:https://jcpdowntown.org/wp-content/uploads/2022/11/Tot-Shabbat.png
END:VEVENT
BEGIN:VEVENT
DTSTART;TZID=America/New_York:20240412T180000
DTEND;TZID=America/New_York:20240412T190000
DTSTAMP:20260419T112057
CREATED:20240220T183840Z
LAST-MODIFIED:20240220T184744Z
UID:10000199-1712944800-1712948400@jcpdowntown.org
SUMMARY:Friday Evening Shabbat Service with HSP Pre-K and Kindergarten Learners
DESCRIPTION:Join Rabbi Deena and our Musician-in-Residence Molly Rose at 146 Duane Street to celebrate Shabbat at 6:00 p.m. Our Hebrew School Project’s Pre-K and kindergarten learners will be joining the service. 
URL:https://jcpdowntown.org/events/friday-evening-shabbat-service-with-hsp-pre-k-and-kindergarten-learners/
LOCATION:JCP Downtown | 146 Duane St.\, 146 Duane Street\, New York\, NY\, 10013\, United States
CATEGORIES:Community Events & Volunteering,Jewish Holidays,Shabbat Services
ATTACH;FMTTYPE=image/png:https://jcpdowntown.org/wp-content/uploads/2023/08/Friday-Evening-Shabbat-Service.png
END:VEVENT
END:VCALENDAR