BEGIN:VCALENDAR
VERSION:2.0
PRODID:-//JCP Downtown - ECPv6.15.20//NONSGML v1.0//EN
CALSCALE:GREGORIAN
METHOD:PUBLISH
X-WR-CALNAME:JCP Downtown
X-ORIGINAL-URL:https://jcpdowntown.org
X-WR-CALDESC:Events for JCP Downtown
REFRESH-INTERVAL;VALUE=DURATION:PT1H
X-Robots-Tag:noindex
X-PUBLISHED-TTL:PT1H
BEGIN:VTIMEZONE
TZID:America/New_York
BEGIN:DAYLIGHT
TZOFFSETFROM:-0500
TZOFFSETTO:-0400
TZNAME:EDT
DTSTART:20230312T070000
END:DAYLIGHT
BEGIN:STANDARD
TZOFFSETFROM:-0400
TZOFFSETTO:-0500
TZNAME:EST
DTSTART:20231105T060000
END:STANDARD
BEGIN:DAYLIGHT
TZOFFSETFROM:-0500
TZOFFSETTO:-0400
TZNAME:EDT
DTSTART:20240310T070000
END:DAYLIGHT
BEGIN:STANDARD
TZOFFSETFROM:-0400
TZOFFSETTO:-0500
TZNAME:EST
DTSTART:20241103T060000
END:STANDARD
BEGIN:DAYLIGHT
TZOFFSETFROM:-0500
TZOFFSETTO:-0400
TZNAME:EDT
DTSTART:20250309T070000
END:DAYLIGHT
BEGIN:STANDARD
TZOFFSETFROM:-0400
TZOFFSETTO:-0500
TZNAME:EST
DTSTART:20251102T060000
END:STANDARD
BEGIN:DAYLIGHT
TZOFFSETFROM:-0500
TZOFFSETTO:-0400
TZNAME:EDT
DTSTART:20260308T070000
END:DAYLIGHT
BEGIN:STANDARD
TZOFFSETFROM:-0400
TZOFFSETTO:-0500
TZNAME:EST
DTSTART:20261101T060000
END:STANDARD
BEGIN:DAYLIGHT
TZOFFSETFROM:-0500
TZOFFSETTO:-0400
TZNAME:EDT
DTSTART:20270314T070000
END:DAYLIGHT
BEGIN:STANDARD
TZOFFSETFROM:-0400
TZOFFSETTO:-0500
TZNAME:EST
DTSTART:20271107T060000
END:STANDARD
END:VTIMEZONE
BEGIN:VEVENT
DTSTART;TZID=America/New_York:20240601T100000
DTEND;TZID=America/New_York:20240601T110000
DTSTAMP:20260419T101547
CREATED:20240508T144536Z
LAST-MODIFIED:20240517T142500Z
UID:10000240-1717236000-1717239600@jcpdowntown.org
SUMMARY:Family Mitzvah Project Sorting Event
DESCRIPTION:Join us for a family mitzvah project during Tot Shabbat to sort donations for Room to Grow at 10:00am for kids in Kindergarten and above with their grownups (or adults who come alone!). You can still donate items Saturday morning; accepted items are linked here. \nAbout Room to Grow: Room to Grow is a family-focused program supporting children during their early years of development. \n[wpforms id=”9356″]
URL:https://jcpdowntown.org/events/family-mitzvah-june-2024/
LOCATION:NY
CATEGORIES:Adult Programming,Community Events & Volunteering,K-12 Programming
ATTACH;FMTTYPE=image/png:https://jcpdowntown.org/wp-content/uploads/2024/05/Family-Mitzvah-Project-Room-to-Grow-1.png
END:VEVENT
BEGIN:VEVENT
DTSTART;TZID=America/New_York:20240602T140000
DTEND;TZID=America/New_York:20240602T160000
DTSTAMP:20260419T101547
CREATED:20240223T215145Z
LAST-MODIFIED:20240517T212136Z
UID:10000228-1717336800-1717344000@jcpdowntown.org
SUMMARY:Shavuot Ice Cream Party
DESCRIPTION:Join your friends on a Sunday to enjoy ice cream and to celebrate the Torah! We’ll spend time together at JCP\, digging our spoons into ice cream from The Urban Cone and celebrating the holiday of Shavuot. We’ll also have crafts\, music\, and a celebration of the Torah with Rabbi Deena. Please note this is not a drop off event—all children must have adult supervision. \nJCP Members attend for FREE—use code “MOUNTSINAI” at checkout. \n[wpforms id=”9340″]
URL:https://jcpdowntown.org/events/shavuot-2024/
LOCATION:NY
CATEGORIES:Adult Programming,Community Events & Volunteering,Early Childhood,Jewish Holidays,K-12 Programming
ATTACH;FMTTYPE=image/png:https://jcpdowntown.org/wp-content/uploads/2024/02/Shavuot-Ice-Cream-Party-2024-2.png
END:VEVENT
BEGIN:VEVENT
DTSTART;TZID=America/New_York:20240823T170000
DTEND;TZID=America/New_York:20240823T200000
DTSTAMP:20260419T101547
CREATED:20240718T145848Z
LAST-MODIFIED:20240718T155807Z
UID:10000244-1724432400-1724443200@jcpdowntown.org
SUMMARY:Shabbat in the Hamptons
DESCRIPTION:Join JCP for a Friday evening Shabbat service in the Hamptons! Location details provided upon registration.\n\nRequest an Invitation: jhernandez@jcpdowntown.org\n\nLight dinner and drinks will be served. 
URL:https://jcpdowntown.org/events/shabbat-in-the-hamptons-3/
LOCATION:NY
CATEGORIES:Community Events & Volunteering,Early Childhood,K-12 Programming,Shabbat Services
ATTACH;FMTTYPE=image/png:https://jcpdowntown.org/wp-content/uploads/2023/06/SHABBAT-IN-THE-HAMPTONS-2023-1.png
END:VEVENT
BEGIN:VEVENT
DTSTART;TZID=America/New_York:20250413T173000
DTEND;TZID=America/New_York:20250413T193000
DTSTAMP:20260419T101547
CREATED:20250218T211128Z
LAST-MODIFIED:20250409T130451Z
UID:10000383-1744565400-1744572600@jcpdowntown.org
SUMMARY:Second Night Seder
DESCRIPTION:We welcome you and your family to join the JCP community as we celebrate the Second Night Seder. We will be joined again by Danielle Brody\, who will take us through her creative and NYC-centric retelling of the story of Passover. The evening will include a delicious seder meal\, catered by J2 Food. \nThe maximum number of submissions have been reached. If you would like to be placed on a waitlist\, please email jisman@jcpdowntown.org. Thank you!
URL:https://jcpdowntown.org/events/second-night-seder-2/
LOCATION:JCP Downtown | 146 Duane St.\, 146 Duane Street\, New York\, NY\, 10013\, United States
CATEGORIES:Adult Programming,Early Childhood,Jewish Holidays,K-12 Programming
ATTACH;FMTTYPE=image/png:https://jcpdowntown.org/wp-content/uploads/2025/02/unnamed-3.png
END:VEVENT
BEGIN:VEVENT
DTSTART;TZID=America/New_York:20250601T140000
DTEND;TZID=America/New_York:20250601T160000
DTSTAMP:20260419T101547
CREATED:20250513T182504Z
LAST-MODIFIED:20250513T182504Z
UID:10000406-1748786400-1748793600@jcpdowntown.org
SUMMARY:Shavuot Ice Cream Party
DESCRIPTION:Get ready for a joyful\, action-packed celebration of Shavuot with the whole JCP community! We’ll sing along with the amazing Molly Rose\, dance with a DJ\, create colorful beaded bracelets\, and indulge in plenty of ice cream from Urban Cone—because what better way to honor the land of milk and honey? \nThis festive afternoon is perfect for families with young children and older kids alike. There will be also be a special opportunity for kids to lend a helping hand sorting donations for Room to Grow\, adding a meaningful mitzvah to the fun. \nFree for members | $18 per family for non-members
URL:https://jcpdowntown.org/events/shavuot-ice-cream-party/
LOCATION:JCP Downtown | 146 Duane St.\, 146 Duane Street\, New York\, NY\, 10013\, United States
CATEGORIES:Adult Programming,Community Events & Volunteering,Early Childhood,Jewish Holidays,K-12 Programming
ATTACH;FMTTYPE=image/png:https://jcpdowntown.org/wp-content/uploads/2025/05/unnamed.png
END:VEVENT
BEGIN:VEVENT
DTSTART;TZID=America/New_York:20250822T170000
DTEND;TZID=America/New_York:20250822T200000
DTSTAMP:20260419T101547
CREATED:20250625T155514Z
LAST-MODIFIED:20250709T164053Z
UID:10000423-1755882000-1755892800@jcpdowntown.org
SUMMARY:Shabbat in the Hamptons
DESCRIPTION:Join Rabbi Deena for a beautiful summer evening with friends in Bridgehampton. Experience a touch of Hamptons Shabbat magic at the Thompson family’s home as we welcome Shabbat together with spirit\, song\, and great company.\n\nSAVE THE DATE!
URL:https://jcpdowntown.org/events/shabbat-in-the-hamptons-4/
LOCATION:NY
CATEGORIES:Community Events & Volunteering,Early Childhood,K-12 Programming,Shabbat Services
ATTACH;FMTTYPE=image/png:https://jcpdowntown.org/wp-content/uploads/2023/06/SHABBAT-IN-THE-HAMPTONS-2023-1.png
END:VEVENT
BEGIN:VEVENT
DTSTART;TZID=America/New_York:20250923T090000
DTEND;TZID=America/New_York:20250923T094500
DTSTAMP:20260419T101547
CREATED:20250826T162606Z
LAST-MODIFIED:20250915T183022Z
UID:10000592-1758618000-1758620700@jcpdowntown.org
SUMMARY:Rosh Hashanah Tot
DESCRIPTION:Families with children ages five and under are welcome to Join Rabbi Deena Silverstone and our Musician-in-Residence Molly Rose Hoenig for your favorite holiday songs and stories. \nWe’d love for you to join us — register here!
URL:https://jcpdowntown.org/events/rosh-hashanah-tot/
LOCATION:NY
CATEGORIES:Jewish Holidays,K-12 Programming
ATTACH;FMTTYPE=image/png:https://jcpdowntown.org/wp-content/uploads/2025/08/17.png
END:VEVENT
BEGIN:VEVENT
DTSTART;TZID=America/New_York:20250923T100000
DTEND;TZID=America/New_York:20250923T131500
DTSTAMP:20260419T101547
CREATED:20250826T163108Z
LAST-MODIFIED:20250915T183011Z
UID:10000593-1758621600-1758633300@jcpdowntown.org
SUMMARY:Rosh Hashanah Youth Program
DESCRIPTION:Children in Kindergarten-5th grade are invited for a morning of holiday music\, arts\, activities\, and a children’s service led by Rabbi Josh\, along with lunch and snacks! This drop-off program will take place during the main service. \nWe’d love for you to join us — register here!
URL:https://jcpdowntown.org/events/rosh-hashanah-youth-program/
LOCATION:NY
CATEGORIES:Jewish Holidays,K-12 Programming
ATTACH;FMTTYPE=image/png:https://jcpdowntown.org/wp-content/uploads/2025/08/Event-Banners-Template-2025-5.png
END:VEVENT
BEGIN:VEVENT
DTSTART;TZID=America/New_York:20250923T113000
DTEND;TZID=America/New_York:20250923T123000
DTSTAMP:20260419T101547
CREATED:20250826T163612Z
LAST-MODIFIED:20250915T182936Z
UID:10000595-1758627000-1758630600@jcpdowntown.org
SUMMARY:Rosh Hashanah Teen Service
DESCRIPTION:Students in grades 6-8 and 9-12 will explore Rosh Hashanah themes in a program designed just for them.\nMiddle school students and teens may attend both the services for their age group and main services with separate registration. \nWe’d love for you to join us — register here!
URL:https://jcpdowntown.org/events/rosh-hashanah-teen-service/
LOCATION:NY
CATEGORIES:Jewish Holidays,K-12 Programming
ATTACH;FMTTYPE=image/png:https://jcpdowntown.org/wp-content/uploads/2025/08/Event-Banners-Template-2025-6.png
END:VEVENT
BEGIN:VEVENT
DTSTART;TZID=America/New_York:20251002T100000
DTEND;TZID=America/New_York:20251002T131500
DTSTAMP:20260419T101547
CREATED:20250826T165050Z
LAST-MODIFIED:20250915T182807Z
UID:10000601-1759399200-1759410900@jcpdowntown.org
SUMMARY:Yom Kippur Youth Program
DESCRIPTION:Children in Kindergarten-5th grade are invited for a morning of holiday music\, arts\, activities\, and a children’s service led by Rabbi Josh\, along with lunch and snacks! This drop-off program will take place during the main service. \nWe’d love for you to join us — register here!
URL:https://jcpdowntown.org/events/yom-kippur-youth-program/
LOCATION:NY
CATEGORIES:Jewish Holidays,K-12 Programming
ATTACH;FMTTYPE=image/png:https://jcpdowntown.org/wp-content/uploads/2025/08/Event-Banners-Template-2025-7.png
END:VEVENT
BEGIN:VEVENT
DTSTART;TZID=America/New_York:20251002T113000
DTEND;TZID=America/New_York:20251002T123000
DTSTAMP:20260419T101547
CREATED:20250826T165413Z
LAST-MODIFIED:20250915T182727Z
UID:10000603-1759404600-1759408200@jcpdowntown.org
SUMMARY:Yom Kippur Teen Service
DESCRIPTION:Students in grades 6-8 and 9-12 will explore Yom Kippur themes in a program designed just for them. \nWe’d love for you to join us — register here!
URL:https://jcpdowntown.org/events/yom-kippur-teen-service/
LOCATION:NY
CATEGORIES:Jewish Holidays,K-12 Programming
ATTACH;FMTTYPE=image/png:https://jcpdowntown.org/wp-content/uploads/2025/08/Event-Banners-Template-2025-8.png
END:VEVENT
BEGIN:VEVENT
DTSTART;TZID=America/New_York:20251005T120000
DTEND;TZID=America/New_York:20251005T130000
DTSTAMP:20260419T101547
CREATED:20250926T150532Z
LAST-MODIFIED:20250926T150533Z
UID:10000611-1759665600-1759669200@jcpdowntown.org
SUMMARY:Gadol Sukkah Lunch | Grades 8-12
DESCRIPTION:Get ready for Sukkot with your friends! We’ll have lunch together\, decorate the JCP Sukkah\, and create our own edible Sukkot! \nRSVP by contacting HSP Director\, Kai Segall
URL:https://jcpdowntown.org/events/gadol-sukkah-lunch-grades-8-12/
LOCATION:JCP Downtown | 146 Duane St.\, 146 Duane Street\, New York\, NY\, 10013\, United States
CATEGORIES:K-12 Programming
END:VEVENT
BEGIN:VEVENT
DTSTART;TZID=America/New_York:20251006T160000
DTEND;TZID=America/New_York:20251006T180000
DTSTAMP:20260419T101547
CREATED:20250926T150832Z
LAST-MODIFIED:20250926T150833Z
UID:10000612-1759766400-1759773600@jcpdowntown.org
SUMMARY:Pizza in the Hut | Grades 3-7
DESCRIPTION:Join your friends in the JCP sukkah to celebrate the holiday of Sukkot! We’ll eat pizza\, play music\, make sukkah decorations\, and create our own edible sukkot! This drop-off celebration will be staffed by HSP teachers.\nThis event is open to Grades 3-7\, capacity is limited. \nSign up today!
URL:https://jcpdowntown.org/events/pizza-in-the-hut-grades-3-7/
LOCATION:JCP Downtown | 146 Duane St.\, 146 Duane Street\, New York\, NY\, 10013\, United States
CATEGORIES:K-12 Programming
ATTACH;FMTTYPE=image/png:https://jcpdowntown.org/wp-content/uploads/2025/09/6.68ca05c04c40a7.89504144.png
END:VEVENT
BEGIN:VEVENT
DTSTART;TZID=America/New_York:20251014T160000
DTEND;TZID=America/New_York:20251014T173000
DTSTAMP:20260419T101547
CREATED:20250926T151101Z
LAST-MODIFIED:20251009T152911Z
UID:10000613-1760457600-1760463000@jcpdowntown.org
SUMMARY:Simchat Torah Shindig | Grades K-3
DESCRIPTION:Join your friends at JCP celebrate the holiday of Simchat Torah! We’ll eat pizza in the JCP Sukkah\, play music and dance with the Torah\, make sukkah decorations\, and create our own edible Torahs! This drop-off celebration will be staffed by HSP teachers.\nThis event is open to Grades K-3\, capacity is limited. \nCurrently at capacity. For any questions\, please contact ksegall@jcpdowntown.org.\n\n 
URL:https://jcpdowntown.org/events/simchat-torah-shindig-grades-k-3/
LOCATION:NY
CATEGORIES:K-12 Programming
ATTACH;FMTTYPE=image/png:https://jcpdowntown.org/wp-content/uploads/2025/09/Event-Banners-Template-2025-9.68cd28981174a3.87249655.png
END:VEVENT
BEGIN:VEVENT
DTSTART;TZID=America/New_York:20251121T193000
DTEND;TZID=America/New_York:20251121T210000
DTSTAMP:20260419T101547
CREATED:20251118T161039Z
LAST-MODIFIED:20251118T161039Z
UID:10000658-1763753400-1763758800@jcpdowntown.org
SUMMARY:Gadol Friendsgiving Shabbat Dinner
DESCRIPTION:Come hang for a Gadol Friendsgiving Shabbat Dinner! Nosh on your favorite Thanksgiving food and let’s make this the coziest (and tastiest) Shabbat of the season. RSVP to Kai with your favorite Thanksgiving food to snag your spot!
URL:https://jcpdowntown.org/events/gadol-friendsgiving-shabbat-dinner/
LOCATION:JCP Downtown | 146 Duane St.\, 146 Duane Street\, New York\, NY\, 10013\, United States
CATEGORIES:K-12 Programming
ATTACH;FMTTYPE=image/png:https://jcpdowntown.org/wp-content/uploads/2025/11/40.png
ORGANIZER;CN="JCP Hebrew School Project":MAILTO:kisman@jcpdowntown.org
END:VEVENT
BEGIN:VEVENT
DTSTART;TZID=America/New_York:20251214T120000
DTEND;TZID=America/New_York:20251214T130000
DTSTAMP:20260419T101547
CREATED:20251119T191952Z
LAST-MODIFIED:20251119T191952Z
UID:10000659-1765713600-1765717200@jcpdowntown.org
SUMMARY:Gadol Hanukkah Party
DESCRIPTION:Take a breather from finals and the end of semester with a cozy evening of latkes\, donuts and maybe some competitive dreidel. \nRSVP to Kai  to hang!
URL:https://jcpdowntown.org/events/gadol-hanukkah-party/
LOCATION:JCP Downtown | 146 Duane St.\, 146 Duane Street\, New York\, NY\, 10013\, United States
CATEGORIES:K-12 Programming
ATTACH;FMTTYPE=image/png:https://jcpdowntown.org/wp-content/uploads/2025/11/Event-Banners-Template-2025-with-dates-part-2-6.png
ORGANIZER;CN="JCP Hebrew School Project":MAILTO:kisman@jcpdowntown.org
END:VEVENT
BEGIN:VEVENT
DTSTART;TZID=America/New_York:20260124T173000
DTEND;TZID=America/New_York:20260124T190000
DTSTAMP:20260419T101547
CREATED:20251112T225742Z
LAST-MODIFIED:20260106T194547Z
UID:10000643-1769275800-1769281200@jcpdowntown.org
SUMMARY:Slumberfest: Jamaroo (K-2)
DESCRIPTION:Join your JCP friends for our second annual Slumberfest! We will have dinner\, do Havdalah\, play games\, bake cookies\, and drink lots of hot cocoa. The 6th – 7th grade event will also include a movie screening. Come in your PJ’s ready for a fun and cozy evening! \nThis is a drop-off event. Located at 146 Duane Street. Capacity is limited. Please register here!
URL:https://jcpdowntown.org/events/slumberfest-jamaroo-k-2/
LOCATION:JCP Downtown 146 Duane St. | Lobby
CATEGORIES:K-12 Programming
ATTACH;FMTTYPE=image/png:https://jcpdowntown.org/wp-content/uploads/2025/11/10.png
END:VEVENT
BEGIN:VEVENT
DTSTART;TZID=America/New_York:20260207T180000
DTEND;TZID=America/New_York:20260207T200000
DTSTAMP:20260419T101547
CREATED:20251112T231227Z
LAST-MODIFIED:20260107T141418Z
UID:10000644-1770487200-1770494400@jcpdowntown.org
SUMMARY:Slumberfest: Jamapalooza (Grades 3-5)
DESCRIPTION:Join your JCP friends for our second annual Slumberfest! We will have dinner\, do Havdalah\, play games\, bake cookies\, and drink lots of hot cocoa. Come in your PJ’s ready for a fun and cozy evening. \nLocated at 146 Duane Street. Capacity is limited. Please register here!
URL:https://jcpdowntown.org/events/slumberfest-jamapalooza-grades-3-5/
LOCATION:JCP Downtown 146 Duane St. | Lobby
CATEGORIES:K-12 Programming
ATTACH;FMTTYPE=image/png:https://jcpdowntown.org/wp-content/uploads/2025/11/11.png
END:VEVENT
BEGIN:VEVENT
DTSTART;TZID=America/New_York:20260228T180000
DTEND;TZID=America/New_York:20260228T200000
DTSTAMP:20260419T101547
CREATED:20251112T225326Z
LAST-MODIFIED:20260107T141605Z
UID:10000642-1772301600-1772308800@jcpdowntown.org
SUMMARY:Slumberfest: Jamchella (Grades 6-7\, Purim-Themed)
DESCRIPTION:Join your JCP friends for our second annual Slumberfest! We will have dinner\, do Havdalah\, bake Hamantashen\, and drink lots of hot cocoa. The event will also include a movie screening. Come in your PJ’s ready for a fun and cozy evening. \nLocated at 146 Duane Street. Capacity is limited. Please register here! 
URL:https://jcpdowntown.org/events/slumberfest-jamchella-grades-6-7-purim-themed/
LOCATION:JCP Downtown 146 Duane St. | Lobby
CATEGORIES:K-12 Programming
ATTACH;FMTTYPE=image/png:https://jcpdowntown.org/wp-content/uploads/2025/11/12.png
END:VEVENT
BEGIN:VEVENT
DTSTART;TZID=America/New_York:20260302T183000
DTEND;TZID=America/New_York:20260302T190000
DTSTAMP:20260419T101547
CREATED:20251112T233255Z
LAST-MODIFIED:20260213T165207Z
UID:10000646-1772476200-1772478000@jcpdowntown.org
SUMMARY:Community Purim Shpiel
DESCRIPTION:Join us for a very spirited and interactive Purim Shpiel put on by our HSP learners. We encourage you to bring the whole family and come in costume. \nThis is a free event. Please register all family members that will be attending. We can’t wait to see you there! \nRegister here!
URL:https://jcpdowntown.org/events/community-purim-shpiel-3-2/
LOCATION:NY
CATEGORIES:Community Events & Volunteering,Jewish Holidays,K-12 Programming
ATTACH;FMTTYPE=image/png:https://jcpdowntown.org/wp-content/uploads/2025/11/68-1.png
END:VEVENT
BEGIN:VEVENT
DTSTART;TZID=America/New_York:20260306T190000
DTEND;TZID=America/New_York:20260306T203000
DTSTAMP:20260419T101547
CREATED:20260212T182200Z
LAST-MODIFIED:20260212T182200Z
UID:10000675-1772823600-1772829000@jcpdowntown.org
SUMMARY:HSP Gadol 10-12th Grade Shabbat Dinner
DESCRIPTION:Email ksegall@jcpdowntown.org to attend
URL:https://jcpdowntown.org/events/hsp-gadol-10-12th-grade-shabbat-dinner/
LOCATION:NY
CATEGORIES:K-12 Programming
END:VEVENT
BEGIN:VEVENT
DTSTART;TZID=America/New_York:20260329T120000
DTEND;TZID=America/New_York:20260329T130000
DTSTAMP:20260419T101547
CREATED:20260213T163908Z
LAST-MODIFIED:20260318T150131Z
UID:10000676-1774785600-1774789200@jcpdowntown.org
SUMMARY:HSP Gadol Passover Party
DESCRIPTION:Take the afternoon off from sports\, homework\, tutors\, etc. and relax with friends making one of the best parts of Passover\, chocolate-covered matzah! \nEmail ksegall@jcpdowntown.org to sign up
URL:https://jcpdowntown.org/events/hsp-gadol-passover-party/
LOCATION:JCP Downtown | 146 Duane St.\, 146 Duane Street\, New York\, NY\, 10013\, United States
CATEGORIES:K-12 Programming
END:VEVENT
BEGIN:VEVENT
DTSTART;TZID=America/New_York:20260508T193000
DTEND;TZID=America/New_York:20260508T210000
DTSTAMP:20260419T101547
CREATED:20251113T004016Z
LAST-MODIFIED:20251113T004016Z
UID:10000655-1778268600-1778274000@jcpdowntown.org
SUMMARY:HSP Senior Shabbat Dinner (Home-Hosted)
DESCRIPTION:Details and Registration coming soon!
URL:https://jcpdowntown.org/events/hsp-senior-shabbat-dinner-home-hosted/
LOCATION:NY
CATEGORIES:K-12 Programming
ATTACH;FMTTYPE=image/png:https://jcpdowntown.org/wp-content/uploads/2025/11/77.png
END:VEVENT
END:VCALENDAR