BEGIN:VCALENDAR
VERSION:2.0
PRODID:-//JCP Downtown - ECPv6.15.20//NONSGML v1.0//EN
CALSCALE:GREGORIAN
METHOD:PUBLISH
X-WR-CALNAME:JCP Downtown
X-ORIGINAL-URL:https://jcpdowntown.org
X-WR-CALDESC:Events for JCP Downtown
REFRESH-INTERVAL;VALUE=DURATION:PT1H
X-Robots-Tag:noindex
X-PUBLISHED-TTL:PT1H
BEGIN:VTIMEZONE
TZID:America/New_York
BEGIN:DAYLIGHT
TZOFFSETFROM:-0500
TZOFFSETTO:-0400
TZNAME:EDT
DTSTART:20220313T070000
END:DAYLIGHT
BEGIN:STANDARD
TZOFFSETFROM:-0400
TZOFFSETTO:-0500
TZNAME:EST
DTSTART:20221106T060000
END:STANDARD
BEGIN:DAYLIGHT
TZOFFSETFROM:-0500
TZOFFSETTO:-0400
TZNAME:EDT
DTSTART:20230312T070000
END:DAYLIGHT
BEGIN:STANDARD
TZOFFSETFROM:-0400
TZOFFSETTO:-0500
TZNAME:EST
DTSTART:20231105T060000
END:STANDARD
BEGIN:DAYLIGHT
TZOFFSETFROM:-0500
TZOFFSETTO:-0400
TZNAME:EDT
DTSTART:20240310T070000
END:DAYLIGHT
BEGIN:STANDARD
TZOFFSETFROM:-0400
TZOFFSETTO:-0500
TZNAME:EST
DTSTART:20241103T060000
END:STANDARD
END:VTIMEZONE
BEGIN:VEVENT
DTSTART;TZID=America/New_York:20230512T180000
DTEND;TZID=America/New_York:20230512T190000
DTSTAMP:20260425T063004
CREATED:20230424T180448Z
LAST-MODIFIED:20230511T131625Z
UID:10000077-1683914400-1683918000@jcpdowntown.org
SUMMARY:Friday Evening Shabbat Service
DESCRIPTION:Join Rabbi Deena Silverstone at 146 Duane Street to celebrate Shabbat at 6:00 p.m for a Shabbat Service in Lower Manhattan.
URL:https://jcpdowntown.org/events/friday-evening-shabbat-service-2/
CATEGORIES:Adult Programming,Community Events & Volunteering,Early Childhood,Jewish Holidays,K-12 Programming,Shabbat Services
ATTACH;FMTTYPE=image/jpeg:https://jcpdowntown.org/wp-content/uploads/2023/01/Shabbat-Services-scaled.jpg
END:VEVENT
BEGIN:VEVENT
DTSTART;TZID=America/New_York:20230510T091500
DTEND;TZID=America/New_York:20230510T100000
DTSTAMP:20260425T063004
CREATED:20230323T164511Z
LAST-MODIFIED:20230412T164524Z
UID:10000066-1683710100-1683712800@jcpdowntown.org
SUMMARY:Caregiver Appreciation Breakfast
DESCRIPTION:Our Caregiver Appreciation Breakfast is at 9:15 AM! Join us at 146 Duane Street.
URL:https://jcpdowntown.org/events/caregiver-appreciation-breakfast/
CATEGORIES:Adult Programming,Community Events & Volunteering,Early Childhood
ATTACH;FMTTYPE=image/png:https://jcpdowntown.org/wp-content/uploads/2023/03/Banner-for-Caregiver-Appreciation-Breakfast.png
END:VEVENT
BEGIN:VEVENT
DTSTART;TZID=America/New_York:20230508T190000
DTEND;TZID=America/New_York:20230508T230000
DTSTAMP:20260425T063004
CREATED:20230221T175717Z
LAST-MODIFIED:20230504T141432Z
UID:10000058-1683572400-1683586800@jcpdowntown.org
SUMMARY:JCP 2023 Annual Benefit
DESCRIPTION:Click here for our event page!
URL:https://jcpdowntown.org/events/jcp-2023-annual-benefit/
CATEGORIES:Adult Programming,Community Events & Volunteering
ATTACH;FMTTYPE=image/png:https://jcpdowntown.org/wp-content/uploads/2023/02/JCP_STD_FINAL29.pdf-1400-×-700-px.png
END:VEVENT
BEGIN:VEVENT
DTSTART;TZID=America/New_York:20230505T180000
DTEND;TZID=America/New_York:20230505T190000
DTSTAMP:20260425T063004
CREATED:20230424T180201Z
LAST-MODIFIED:20230424T180232Z
UID:10000076-1683309600-1683313200@jcpdowntown.org
SUMMARY:Friday Evening Shabbat Service
DESCRIPTION:Join Rabbi Deena Silverstone at 146 Duane Street to celebrate Shabbat at 6:00 p.m for a Shabbat Service serving Lower Manhattan.
URL:https://jcpdowntown.org/events/friday-evening-shabbat-service/
CATEGORIES:Adult Programming,Community Events & Volunteering,Early Childhood,Jewish Holidays,K-12 Programming,Shabbat Services
ATTACH;FMTTYPE=image/jpeg:https://jcpdowntown.org/wp-content/uploads/2023/01/Shabbat-Services-scaled.jpg
END:VEVENT
BEGIN:VEVENT
DTSTART;TZID=America/New_York:20230505T153000
DTEND;TZID=America/New_York:20230505T170000
DTSTAMP:20260425T063004
CREATED:20230331T204910Z
LAST-MODIFIED:20230412T181015Z
UID:10000069-1683300600-1683306000@jcpdowntown.org
SUMMARY:Brookdale Senior Living Shabbat Service
DESCRIPTION:Here’s a community service opportunity for students 3rd grade and up! Students will meet Rabbi Deena at JCP Downtown before walking over to Brookdale Senior Living to lead a Shabbat service for the senior community. The group will return to JCP by 5:00 PM. \nClick here to RSVP.
URL:https://jcpdowntown.org/events/brookdale-senior-living-shabbat-service/
CATEGORIES:Community Events & Volunteering,K-12 Programming,Shabbat Services
ATTACH;FMTTYPE=image/png:https://jcpdowntown.org/wp-content/uploads/2023/03/Brookdale-Senior-Living-1.png
END:VEVENT
BEGIN:VEVENT
DTSTART;TZID=America/New_York:20230504T160000
DTEND;TZID=America/New_York:20230504T170000
DTSTAMP:20260425T063004
CREATED:20230323T165339Z
LAST-MODIFIED:20230412T191545Z
UID:10000067-1683216000-1683219600@jcpdowntown.org
SUMMARY:Sing with Suzi
DESCRIPTION:Attend an interactive and upbeat sing-along starring Suzi Shelton\, an award-winning children’s recording artist and JCPlay teacher! This musical performance is for children up to age five and includes a snack.
URL:https://jcpdowntown.org/events/sing-with-suzi-4/
CATEGORIES:Early Childhood,K-12 Programming
ATTACH;FMTTYPE=image/jpeg:https://jcpdowntown.org/wp-content/uploads/2022/11/unnamed-1.jpeg
END:VEVENT
BEGIN:VEVENT
DTSTART;TZID=America/New_York:20230503T173000
DTEND;TZID=America/New_York:20230503T203000
DTSTAMP:20260425T063004
CREATED:20230411T184023Z
LAST-MODIFIED:20230418T191815Z
UID:10000070-1683135000-1683145800@jcpdowntown.org
SUMMARY:Women’s & Mother's Day Celebration
DESCRIPTION:You’re invited to a special event for Mother’s Day with JCP at Atelier Beauté Chanel! Join us for makeup touchups\, a special fragrance journey\, and more\, just for the JCP community and your friends. Wine and canapes to be provided. \n\n\n\n\nClick here for tickets! \nGenerously hosted by Hannah Bomze\, Shayna Glaser\, Jessica Jacobs\, Alexis Feldman Olinsky\, Hanna Richheimer\, Katie Sasson\, and Rachel Strocko.
URL:https://jcpdowntown.org/events/jcp-women-at-atelier/
CATEGORIES:Adult Programming,Community Events & Volunteering
ATTACH;FMTTYPE=image/png:https://jcpdowntown.org/wp-content/uploads/2023/04/JCPs-Womens-and-Mothers-Day-Event-2023-Chanel.png
END:VEVENT
BEGIN:VEVENT
DTSTART;TZID=America/New_York:20230429T100000
DTEND;TZID=America/New_York:20230429T110000
DTSTAMP:20260425T063004
CREATED:20230323T162513Z
LAST-MODIFIED:20230323T162535Z
UID:10000065-1682762400-1682766000@jcpdowntown.org
SUMMARY:Tot Shabbat
DESCRIPTION:Join your friends at JCP for a joyful and musical Shabbat morning experience for families with children up to five years of age. Come together for song\, dance\, prayer\, and stories. This event is free of charge. Registration is needed only for children who will attend; accompanying adults do not need to register themselves.
URL:https://jcpdowntown.org/events/tot-shabbat-5/
CATEGORIES:Early Childhood,Shabbat Services
ATTACH;FMTTYPE=image/png:https://jcpdowntown.org/wp-content/uploads/2022/11/Tot-Shabbat.png
END:VEVENT
BEGIN:VEVENT
DTSTART;TZID=America/New_York:20230428T180000
DTEND;TZID=America/New_York:20230428T190000
DTSTAMP:20260425T063004
CREATED:20230413T213200Z
LAST-MODIFIED:20230426T142927Z
UID:10000075-1682704800-1682708400@jcpdowntown.org
SUMMARY:Rabbi Jacob's Farewell Gathering
DESCRIPTION:Led by Rabbi Deena and featuring the HSP Kindergarten and Pre-K learners\, we will have a very special Shabbat service together at the Tribeca Synagogue (49 White Stree)\, celebrating Rabbi Jacob Leizman and all of his accomplishments! \nIn early May\, Jacob will be ordained as a Rabbi\, and shortly afterwards\, he will be moving to the Chicago area to serve as a Rabbi there. Jacob has done such outstanding work with our JCP community\, and we wish him every blessing as he enters this next chapter of his promising Rabbinate.
URL:https://jcpdowntown.org/events/celebrate-rabbi-jacob/
CATEGORIES:Adult Programming,Community Events & Volunteering,Early Childhood,Jewish Holidays,K-12 Programming,Shabbat Services
ATTACH;FMTTYPE=image/png:https://jcpdowntown.org/wp-content/uploads/2023/04/Rabbi-Jacobs-Farewell-Celebration-1.png
END:VEVENT
BEGIN:VEVENT
DTSTART;TZID=America/New_York:20230427T190000
DTEND;TZID=America/New_York:20230427T200000
DTSTAMP:20260425T063004
CREATED:20230323T162114Z
LAST-MODIFIED:20230418T184015Z
UID:10000064-1682622000-1682625600@jcpdowntown.org
SUMMARY:Yom Ha'atzmaut Speaker at Tribeca Synagogue
DESCRIPTION:We Are Family? Models for our Relationship with Israel\nHow do we understand what it means to be part of the Jewish People? What roles might we play as individuals in Jewish Peoplehood? Justin Pines\, Hartman’s Director of Lay Leadership\, will delve into past frameworks and models used to define the relationship between Israel and world Jewry and explore how we can reimagine models of Peoplehood that rebuild a sense of togetherness. \nRegister here.
URL:https://jcpdowntown.org/events/we-are-family-models-for-our-relationship-with-israel/
CATEGORIES:Adult Programming,Community Events & Volunteering
ATTACH;FMTTYPE=image/png:https://jcpdowntown.org/wp-content/uploads/2023/03/Screen-Shot-2023-04-10-at-3.56.29-PM.png
END:VEVENT
BEGIN:VEVENT
DTSTART;TZID=America/New_York:20230423T140000
DTEND;TZID=America/New_York:20230423T150000
DTSTAMP:20260425T063004
CREATED:20230323T161721Z
LAST-MODIFIED:20230420T172201Z
UID:10000063-1682258400-1682262000@jcpdowntown.org
SUMMARY:Israel-Themed Buddy Scavenger Hunt
DESCRIPTION:JCP creates Buddy Events throughout the year where our younger learners and older learners will be paired together\, creating bonds and friendships across age groups. Please fill out the information below and we will pair buddies together for our next event on April 23! \n \nJCP’s Israel-Themed Buddy Scavenger Hunt is on April 23rd from 2-3pm!\nThis event will be a scavenger hunt in honor of Yom Ha’atzmaut (Israel’s Independence Day)! We will search the JCP building and solve clues while learning about Israel. Can’t wait to see you there! Sign up here.\n\nPlease note\, this is not a drop-off event\, and adults must accompany children in 3rd grade and below. \n\n\nUpcoming Buddy Event:\nShavuot Ice Cream Party – May 21\, 2023
URL:https://jcpdowntown.org/events/israel-themed-buddy-scavenger-hunt/
CATEGORIES:Community Events & Volunteering,Early Childhood,K-12 Programming
ATTACH;FMTTYPE=image/png:https://jcpdowntown.org/wp-content/uploads/2023/03/Buddy-Scavenger-Hunt-Announcement.png
END:VEVENT
BEGIN:VEVENT
DTSTART;TZID=America/New_York:20230421T180000
DTEND;TZID=America/New_York:20230421T190000
DTSTAMP:20260425T063004
CREATED:20230413T211757Z
LAST-MODIFIED:20230413T211837Z
UID:10000074-1682100000-1682103600@jcpdowntown.org
SUMMARY:Friday Evening Shabbat Service with Cantor Galeet
DESCRIPTION:Join Rabbi Deena Silverstone and Cantor Galeet at 146 Duane Street to celebrate Shabbat at 6:00 p.m.
URL:https://jcpdowntown.org/events/friday-evening-shabbat-service-with-cantor-galeet/
CATEGORIES:Adult Programming,Community Events & Volunteering,Early Childhood,Jewish Holidays,K-12 Programming,Shabbat Services
ATTACH;FMTTYPE=image/jpeg:https://jcpdowntown.org/wp-content/uploads/2023/01/Shabbat-Services-scaled.jpg
END:VEVENT
BEGIN:VEVENT
DTSTART;TZID=America/New_York:20230418T143000
DTEND;TZID=America/New_York:20230418T153000
DTSTAMP:20260425T063004
CREATED:20230411T200616Z
LAST-MODIFIED:20230411T200655Z
UID:10000071-1681828200-1681831800@jcpdowntown.org
SUMMARY:Grandparent Reading Group
DESCRIPTION:Join Rabbi Deena and other grandparents in the JCP community as we discuss the book The Beauty Queen of Jerusalem by Sarit Yishai-Levi. \nEmail rabbi@jcpdowntown.org to join us on Zoom!
URL:https://jcpdowntown.org/events/grandparent-reading-group-2/
CATEGORIES:Adult Programming
ATTACH;FMTTYPE=image/png:https://jcpdowntown.org/wp-content/uploads/2023/04/Grandparent-Reading-Group.png
END:VEVENT
BEGIN:VEVENT
DTSTART;TZID=America/New_York:20230417T190000
DTEND;TZID=America/New_York:20230417T200000
DTSTAMP:20260425T063004
CREATED:20230323T160617Z
LAST-MODIFIED:20230410T195235Z
UID:10000062-1681758000-1681761600@jcpdowntown.org
SUMMARY:Yom HaShoah Commemoration with the Downtown Jewish Life Partners
DESCRIPTION:Join DJL partners and your downtown community as we mark Yom HaShoah\, Holocaust Remembrance Day\, featuring musical selections\, prayer\, and a special guest speaker. This event is free and open to all. \n  \nAll guests must be vaccinated to participate in person.
URL:https://jcpdowntown.org/events/yom-hashoah-commemoration-with-the-downtown-jewish-life-partners/
CATEGORIES:Adult Programming,Community Events & Volunteering,Jewish Holidays
ATTACH;FMTTYPE=image/jpeg:https://jcpdowntown.org/wp-content/uploads/2023/03/14Y_DJL_YomHashoah_Eventbrite_2023_V6.jpg
END:VEVENT
BEGIN:VEVENT
DTSTART;TZID=America/New_York:20230407T180000
DTEND;TZID=America/New_York:20230407T190000
DTSTAMP:20260425T063004
CREATED:20230320T205915Z
LAST-MODIFIED:20230320T205946Z
UID:10000060-1680890400-1680894000@jcpdowntown.org
SUMMARY:Instagram Live Shabbat Service
DESCRIPTION:Join Rabbi Deena Silverstone on Instagram Live to celebrate Shabbat at 6:00 p.m. 
URL:https://jcpdowntown.org/events/instagram-live-shabbat-service-5/
CATEGORIES:Shabbat Services
ATTACH;FMTTYPE=image/jpeg:https://jcpdowntown.org/wp-content/uploads/2023/01/Shabbat-Services-scaled.jpg
END:VEVENT
BEGIN:VEVENT
DTSTART;TZID=America/New_York:20230406T173000
DTEND;TZID=America/New_York:20230406T203000
DTSTAMP:20260425T063004
CREATED:20230323T155135Z
LAST-MODIFIED:20230403T162553Z
UID:10000061-1680802200-1680813000@jcpdowntown.org
SUMMARY:Second Night Seder
DESCRIPTION:Join us for a fun community Seder led by Rabbi Deena Silverstone and special guest\, Danielle Brody\, author of the Haggadah entitled “Don’t Fuhaggadahboudit.” Experience an entertaining Seder with a modern twist and the story of Pharaoh and Moses reimagined in NYC. \nGeneral tickets include the Seder and essentials – wine and matzah\, a kosher dairy meal\, plus a copy of the Haggadah! This event is open to all ages. \n\nClick here for tickets! \n\nAbout Danielle: Danielle Brody is a Jewish writer\, marketer\, and artist. She creates cartoons about her life and Jewish culture as Danielle in Doodles and Jews in Doodles. Brody self-published “Don’t Fuhaggadahboudit” and Hanukkah in Your Hands\, She creates Jewish products\, including Mitzvah or Shandah\, and produces community events. Last summer\, she was named to New York Jewish Week’s 36 to watch list. \n\n\n\n\n\n\nMembers: email rantonison@jcpdowntown.org for membership discount code!
URL:https://jcpdowntown.org/events/second-night-seder/
LOCATION:JCP Downtown | 146 Duane St.\, 146 Duane Street\, New York\, NY\, 10013\, United States
CATEGORIES:Adult Programming,Community Events & Volunteering,Early Childhood,Jewish Holidays,K-12 Programming
ATTACH;FMTTYPE=image/png:https://jcpdowntown.org/wp-content/uploads/2023/03/Second-Night-Seder-2023-Graphic.png
END:VEVENT
BEGIN:VEVENT
DTSTART;TZID=America/New_York:20230331T180000
DTEND;TZID=America/New_York:20230331T190000
DTSTAMP:20260425T063004
CREATED:20230214T175446Z
LAST-MODIFIED:20230214T175446Z
UID:10000056-1680285600-1680289200@jcpdowntown.org
SUMMARY:Instagram Live Shabbat Service
DESCRIPTION:Join Rabbi Deena Silverstone on Instagram Live to celebrate Shabbat at 6:00 p.m. 
URL:https://jcpdowntown.org/events/instagram-live-shabbat-service-4/
LOCATION:JCP Downtown | 146 Duane St.\, 146 Duane Street\, New York\, NY\, 10013\, United States
CATEGORIES:Shabbat Services
ATTACH;FMTTYPE=image/jpeg:https://jcpdowntown.org/wp-content/uploads/2023/01/Shabbat-Services-scaled.jpg
END:VEVENT
BEGIN:VEVENT
DTSTART;TZID=America/New_York:20230324T180000
DTEND;TZID=America/New_York:20230324T190000
DTSTAMP:20260425T063004
CREATED:20230214T175120Z
LAST-MODIFIED:20230214T175226Z
UID:10000055-1679680800-1679684400@jcpdowntown.org
SUMMARY:Instagram Live Shabbat Service
DESCRIPTION:Join Rabbi Deena Silverstone on Instagram Live to celebrate Shabbat at 6:00 p.m. 
URL:https://jcpdowntown.org/events/instagram-live-shabbat-service-3/
LOCATION:JCP Downtown | 146 Duane St.\, 146 Duane Street\, New York\, NY\, 10013\, United States
CATEGORIES:Shabbat Services
ATTACH;FMTTYPE=image/jpeg:https://jcpdowntown.org/wp-content/uploads/2023/01/Shabbat-Services-scaled.jpg
END:VEVENT
BEGIN:VEVENT
DTSTART;TZID=America/New_York:20230317T180000
DTEND;TZID=America/New_York:20230317T190000
DTSTAMP:20260425T063004
CREATED:20230214T174756Z
LAST-MODIFIED:20230214T174756Z
UID:10000054-1679076000-1679079600@jcpdowntown.org
SUMMARY:Instagram Live Shabbat Service
DESCRIPTION:Join Rabbi Deena Silverstone on Instagram Live to celebrate Shabbat at 6:00 p.m. 
URL:https://jcpdowntown.org/events/instagram-live-shabbat-service-2/
LOCATION:JCP Downtown | 146 Duane St.\, 146 Duane Street\, New York\, NY\, 10013\, United States
CATEGORIES:Shabbat Services
ATTACH;FMTTYPE=image/jpeg:https://jcpdowntown.org/wp-content/uploads/2023/01/Shabbat-Services-scaled.jpg
END:VEVENT
BEGIN:VEVENT
DTSTART;TZID=America/New_York:20230311T100000
DTEND;TZID=America/New_York:20230311T110000
DTSTAMP:20260425T063004
CREATED:20230213T200823Z
LAST-MODIFIED:20230213T204759Z
UID:10000052-1678528800-1678532400@jcpdowntown.org
SUMMARY:Tot Shabbat
DESCRIPTION:Join your friends at JCP for a joyful and musical Shabbat morning experience for families with children up to five years of age. Come together for song\, dance\, prayer\, and stories. This event is free of charge. Registration is needed only for children who will attend; accompanying adults do not need to register themselves.
URL:https://jcpdowntown.org/events/tot-shabbat-4/
LOCATION:JCP Downtown | 146 Duane St.\, 146 Duane Street\, New York\, NY\, 10013\, United States
CATEGORIES:Early Childhood
ATTACH;FMTTYPE=image/png:https://jcpdowntown.org/wp-content/uploads/2022/11/Tot-Shabbat.png
END:VEVENT
BEGIN:VEVENT
DTSTART;TZID=America/New_York:20230310T180000
DTEND;TZID=America/New_York:20230310T190000
DTSTAMP:20260425T063004
CREATED:20230214T174546Z
LAST-MODIFIED:20230214T174546Z
UID:10000053-1678471200-1678474800@jcpdowntown.org
SUMMARY:Friday Evening Shabbat Service with HSP Third and Fourth Graders
DESCRIPTION:Join Rabbi Deena Silverstone at 146 Duane Street to celebrate Shabbat at 6:00 p.m. Our Hebrew School Project’s Third and Fourth will be joining the service. 
URL:https://jcpdowntown.org/events/friday-evening-shabbat-service-with-hsp-third-and-fourth-graders-2/
LOCATION:JCP Downtown | 146 Duane St.\, 146 Duane Street\, New York\, NY\, 10013\, United States
CATEGORIES:K-12 Programming,Shabbat Services
ATTACH;FMTTYPE=image/jpeg:https://jcpdowntown.org/wp-content/uploads/2023/01/Shabbat-Services-scaled.jpg
END:VEVENT
BEGIN:VEVENT
DTSTART;TZID=America/New_York:20230306T181500
DTEND;TZID=America/New_York:20230306T193000
DTSTAMP:20260425T063004
CREATED:20230201T163034Z
LAST-MODIFIED:20230301T153746Z
UID:10000050-1678126500-1678131000@jcpdowntown.org
SUMMARY:Megillah Reading & Shpiel
DESCRIPTION:Join us as we listen to Rabbi Deena tell the tale of Esther from the Megillah\, and then watch the Purim Spiel\, performed by our HSP learners! Wear your costume and get excited to celebrate Purim together.
URL:https://jcpdowntown.org/events/megillah-reading-shpiel/
CATEGORIES:Community Events & Volunteering,Jewish Holidays,K-12 Programming
ATTACH;FMTTYPE=image/png:https://jcpdowntown.org/wp-content/uploads/2023/02/Magillah-Reading-Spiell-Facebook-Cover.png
END:VEVENT
BEGIN:VEVENT
DTSTART;TZID=America/New_York:20230305T140000
DTEND;TZID=America/New_York:20230305T170000
DTSTAMP:20260425T063004
CREATED:20230127T154534Z
LAST-MODIFIED:20230301T153741Z
UID:10000047-1678024800-1678035600@jcpdowntown.org
SUMMARY:2023 Purim Carnival
DESCRIPTION:Join JCP Downtown on Sunday\, March 5th at the Tribeca Synagogue from 2:00-5:00 P.M. for crafts\, games\, and magic! There will snacks\, refreshments\, and a Purim sing-a-long with our clergy. Wear your costume and get excited for fun! \nClick here to register!
URL:https://jcpdowntown.org/events/2023-purim-carnival/
CATEGORIES:Community Events & Volunteering,Early Childhood,Jewish Holidays,K-12 Programming
ATTACH;FMTTYPE=image/png:https://jcpdowntown.org/wp-content/uploads/2023/01/PURIM-CARNIVAL-Facebook-Cover.png
END:VEVENT
BEGIN:VEVENT
DTSTART;TZID=America/New_York:20230303T180000
DTEND;TZID=America/New_York:20230303T190000
DTSTAMP:20260425T063004
CREATED:20230208T155349Z
LAST-MODIFIED:20230213T193742Z
UID:10000051-1677866400-1677870000@jcpdowntown.org
SUMMARY:Friday Evening Shabbat Service with HSP Second Graders
DESCRIPTION:Join Rabbi Deena Silverstone at 146 Duane Street to celebrate Shabbat at 6:00 p.m. Our Hebrew School Project’s Second Graders will be joining the service. 
URL:https://jcpdowntown.org/events/friday-evening-shabbat-service-with-hsp-second-graders/
LOCATION:JCP Downtown | 146 Duane St.\, 146 Duane Street\, New York\, NY\, 10013\, United States
CATEGORIES:K-12 Programming,Shabbat Services
ATTACH;FMTTYPE=image/jpeg:https://jcpdowntown.org/wp-content/uploads/2023/01/Shabbat-Services-scaled.jpg
END:VEVENT
BEGIN:VEVENT
DTSTART;TZID=America/New_York:20230302T160000
DTEND;TZID=America/New_York:20230302T170000
DTSTAMP:20260425T063004
CREATED:20230201T162804Z
LAST-MODIFIED:20240517T185554Z
UID:10000049-1677772800-1677776400@jcpdowntown.org
SUMMARY:Sing with Suzi!
DESCRIPTION:Attend an interactive and upbeat sing-along starring Suzi Shelton\, an award-winning children’s recording artist and JCPlay teacher. This musical performance is for children up to age five and includes a snack. Sing and dance at this amazing afternoon concert series! This event is free for members or $20 for the whole family (or $25 the day of)–click here for tickets! \n[wpforms id=”9524″]
URL:https://jcpdowntown.org/events/sing-with-suzi-3/
CATEGORIES:Early Childhood
ATTACH;FMTTYPE=image/jpeg:https://jcpdowntown.org/wp-content/uploads/2022/11/unnamed-1.jpeg
END:VEVENT
BEGIN:VEVENT
DTSTART;TZID=America/New_York:20230301T190000
DTEND;TZID=America/New_York:20230301T210000
DTSTAMP:20260425T063004
CREATED:20230201T162622Z
LAST-MODIFIED:20230301T153702Z
UID:10000048-1677697200-1677704400@jcpdowntown.org
SUMMARY:Purim Wine Tasting
DESCRIPTION:Get together at a home-hosted Purim celebration! We’ll sample different wines and continue our tradition together. This event is generously hosted by Erica and Brian Marks. \n  \nWe are happy that Lee Weiss\, an ECC parent and a part of our community\, will choose our wines again this year! Lee is a 20-year restaurant veteran\, working mostly in Chicago and New York City. He has worked in some of the best restaurants in the world\, including Eleven Madison Park\, where he worked alongside Master Sommelier Dustin Wilson (One White Street and Verve Wine). He worked with another Master Sommelier\, Cameron Douglas\, at the Musket Room where he was fortunate enough to participate in choosing and buying wines for the Michelin-starred restaurant. Now\, Lee tends to drink more wine than he sells but he still teaches an occasional wine class to his corporate clients while working with Bon Appetit Management Company.
URL:https://jcpdowntown.org/events/purim-wine-tasting/
CATEGORIES:Adult Programming
ATTACH;FMTTYPE=image/png:https://jcpdowntown.org/wp-content/uploads/2023/02/Untitled-design-44.png
END:VEVENT
BEGIN:VEVENT
DTSTART;TZID=America/New_York:20230224T180000
DTEND;TZID=America/New_York:20230224T190000
DTSTAMP:20260425T063004
CREATED:20230118T164009Z
LAST-MODIFIED:20230207T192131Z
UID:10000045-1677261600-1677265200@jcpdowntown.org
SUMMARY:Instagram Live Shabbat Service
DESCRIPTION:Join Rabbi Deena Silverstone on Instagram Live to celebrate Shabbat at 6:00 p.m. 
URL:https://jcpdowntown.org/events/instagram-live-shabbat-service/
LOCATION:JCP Downtown | 146 Duane St.\, 146 Duane Street\, New York\, NY\, 10013\, United States
CATEGORIES:Shabbat Services
ATTACH;FMTTYPE=image/jpeg:https://jcpdowntown.org/wp-content/uploads/2023/01/Shabbat-Services-scaled.jpg
END:VEVENT
BEGIN:VEVENT
DTSTART;TZID=America/New_York:20230217T180000
DTEND;TZID=America/New_York:20230217T190000
DTSTAMP:20260425T063004
CREATED:20230118T163746Z
LAST-MODIFIED:20230207T192313Z
UID:10000044-1676656800-1676660400@jcpdowntown.org
SUMMARY:Instagram Live Shabbat Service
DESCRIPTION:Join Rabbi Deena Silverstone on Instagram Live to celebrate Shabbat at 6:00 p.m. 
URL:https://jcpdowntown.org/events/insta-live-1/
CATEGORIES:Shabbat Services
ATTACH;FMTTYPE=image/jpeg:https://jcpdowntown.org/wp-content/uploads/2023/01/Shabbat-Services-scaled.jpg
END:VEVENT
BEGIN:VEVENT
DTSTART;TZID=America/New_York:20230211T100000
DTEND;TZID=America/New_York:20230211T230000
DTSTAMP:20260425T063004
CREATED:20230118T165847Z
LAST-MODIFIED:20230207T192224Z
UID:10000046-1676109600-1676156400@jcpdowntown.org
SUMMARY:Tot Shabbat
DESCRIPTION:Join your friends at JCP for a joyful and musical Shabbat morning experience for families with children up to five years of age. Come together for song\, dance\, prayer\, and stories. This event is free of charge. Registration is needed only for children who will attend; accompanying adults do not need to register themselves.
URL:https://jcpdowntown.org/events/tot-shabbat-3/
CATEGORIES:Shabbat Services
ATTACH;FMTTYPE=image/png:https://jcpdowntown.org/wp-content/uploads/2022/11/Tot-Shabbat.png
END:VEVENT
BEGIN:VEVENT
DTSTART;TZID=America/New_York:20230210T180000
DTEND;TZID=America/New_York:20230210T190000
DTSTAMP:20260425T063004
CREATED:20230118T163458Z
LAST-MODIFIED:20230207T192344Z
UID:10000043-1676052000-1676055600@jcpdowntown.org
SUMMARY:Friday Evening Shabbat Service with HSP First Graders
DESCRIPTION:Join Rabbi Deena Silverstone at 146 Duane Street to celebrate Shabbat at 6:00 p.m. Our HSP First Graders will be part of the service with our Rabbis. 
URL:https://jcpdowntown.org/events/shabbat-service-2/
CATEGORIES:Shabbat Services
ATTACH;FMTTYPE=image/jpeg:https://jcpdowntown.org/wp-content/uploads/2023/01/Shabbat-Services-scaled.jpg
END:VEVENT
END:VCALENDAR