BEGIN:VCALENDAR
VERSION:2.0
PRODID:-//JCP Downtown - ECPv6.15.20//NONSGML v1.0//EN
CALSCALE:GREGORIAN
METHOD:PUBLISH
X-ORIGINAL-URL:https://jcpdowntown.org
X-WR-CALDESC:Events for JCP Downtown
REFRESH-INTERVAL;VALUE=DURATION:PT1H
X-Robots-Tag:noindex
X-PUBLISHED-TTL:PT1H
BEGIN:VTIMEZONE
TZID:America/New_York
BEGIN:DAYLIGHT
TZOFFSETFROM:-0500
TZOFFSETTO:-0400
TZNAME:EDT
DTSTART:20240310T070000
END:DAYLIGHT
BEGIN:STANDARD
TZOFFSETFROM:-0400
TZOFFSETTO:-0500
TZNAME:EST
DTSTART:20241103T060000
END:STANDARD
BEGIN:DAYLIGHT
TZOFFSETFROM:-0500
TZOFFSETTO:-0400
TZNAME:EDT
DTSTART:20250309T070000
END:DAYLIGHT
BEGIN:STANDARD
TZOFFSETFROM:-0400
TZOFFSETTO:-0500
TZNAME:EST
DTSTART:20251102T060000
END:STANDARD
BEGIN:DAYLIGHT
TZOFFSETFROM:-0500
TZOFFSETTO:-0400
TZNAME:EDT
DTSTART:20260308T070000
END:DAYLIGHT
BEGIN:STANDARD
TZOFFSETFROM:-0400
TZOFFSETTO:-0500
TZNAME:EST
DTSTART:20261101T060000
END:STANDARD
END:VTIMEZONE
BEGIN:VEVENT
DTSTART;TZID=America/New_York:20251023T183000
DTEND;TZID=America/New_York:20251023T203000
DTSTAMP:20260419T083407
CREATED:20250926T192104Z
LAST-MODIFIED:20250926T192104Z
UID:10000616-1761244200-1761251400@jcpdowntown.org
SUMMARY:Home-hosted Challah Bake
DESCRIPTION:Ready\, Set\, Braid! It’s time for the Home-Hosted Challah Bake! Rabbi Josh will join as we walk you through all the steps from kneading to braiding. Everyone will leave with a loaf ready to be baked for Shabbat. We hope you’ll join us! Thank you to Laurel Rom Dugan and Josh Dugan for hosting this event. \nAddress will be provided prior to the event. This event is for adult JCP members only. \nRegister here!
URL:https://jcpdowntown.org/events/home-hosted-challah-bake-2/
LOCATION:NY
ATTACH;FMTTYPE=image/png:https://jcpdowntown.org/wp-content/uploads/2025/09/33.68a3530eb96635.07528706.png
END:VEVENT
BEGIN:VEVENT
DTSTART;TZID=America/New_York:20251024T114500
DTEND;TZID=America/New_York:20251024T123000
DTSTAMP:20260419T083407
CREATED:20250825T211730Z
LAST-MODIFIED:20251001T162749Z
UID:10000434-1761306300-1761309000@jcpdowntown.org
SUMMARY:Babies & Blessings
DESCRIPTION:Babies and their caregivers gather weekly to sing songs\, read stories\, and dance together. This class is a wonderful introduction to JCP’s preschool and Jewish life programs.
URL:https://jcpdowntown.org/events/babies-blessings-15/2025-10-24/
LOCATION:JCP Lounge\, 146 Duane Street\, New York\, NY\, 10013\, United States
ATTACH;FMTTYPE=image/png:https://jcpdowntown.org/wp-content/uploads/2025/08/7.png
END:VEVENT
BEGIN:VEVENT
DTSTART;TZID=America/New_York:20251024T180000
DTEND;TZID=America/New_York:20251024T184500
DTSTAMP:20260419T083407
CREATED:20250806T212041Z
LAST-MODIFIED:20260403T201103Z
UID:10000468-1761328800-1761331500@jcpdowntown.org
SUMMARY:Friday Evening Shabbat Service
DESCRIPTION:Wind down a busy week with Friday Evening Services. Ground your weekend with calming candlelight\, community connection prayer\, and song.
URL:https://jcpdowntown.org/events/friday-evening-shabbat-service-3-2/2025-10-24/
LOCATION:JCP Lobby | 146 Duane St.
CATEGORIES:Community Events & Volunteering,Jewish Holidays,Shabbat Services
ATTACH;FMTTYPE=image/png:https://jcpdowntown.org/wp-content/uploads/2025/08/12.png
END:VEVENT
BEGIN:VEVENT
DTSTART;TZID=America/New_York:20251026T160000
DTEND;TZID=America/New_York:20251026T180000
DTSTAMP:20260419T083407
CREATED:20250926T192452Z
LAST-MODIFIED:20250926T192528Z
UID:10000617-1761494400-1761501600@jcpdowntown.org
SUMMARY:Fall Family Fun Day
DESCRIPTION:All ages are welcome to join us to celebrate the season with music and dancing\, bubbles\, clowning\, crafting\, and of course\, great friends! \nThis event is free for JCP members and costs $18/family for non-members. Pizza and snacks will be served. \nRegister here!
URL:https://jcpdowntown.org/events/fall-family-fun-day/
LOCATION:Tribeca Synagogue\, 49 White Street\, Tribeca Synagogue\, 49 White St\, NY\, 10013\, United States
ATTACH;FMTTYPE=image/png:https://jcpdowntown.org/wp-content/uploads/2025/09/28.689511e68f6856.60433860.png
END:VEVENT
BEGIN:VEVENT
DTSTART;VALUE=DATE:20251027
DTEND;VALUE=DATE:20251122
DTSTAMP:20260419T083407
CREATED:20251021T160726Z
LAST-MODIFIED:20251021T160726Z
UID:10000633-1761523200-1763769599@jcpdowntown.org
SUMMARY:NY Cares Coat Drive
DESCRIPTION:In partnership with New York Cares\, we’re excited to announce that we’ll be collecting new and gently-used winter coats for the 37th Annual New York Cares Coat Drive\, running from October 27 to November 21. Please drop off your donations– coats of any size in the designated bins at the JCP school entrance. \n\n\nThank you for your generosity in helping keep New Yorkers warm this winter!
URL:https://jcpdowntown.org/events/ny-cares-coat-drive-2/
LOCATION:JCP Downtown 146 Duane St. | Lobby
CATEGORIES:Community Events & Volunteering
ATTACH;FMTTYPE=image/jpeg:https://jcpdowntown.org/wp-content/uploads/2024/10/ny-cares-header-image.jpg
END:VEVENT
BEGIN:VEVENT
DTSTART;TZID=America/New_York:20251027T190000
DTEND;TZID=America/New_York:20251027T203000
DTSTAMP:20260419T083407
CREATED:20250826T121024Z
LAST-MODIFIED:20251001T180217Z
UID:10000516-1761591600-1761597000@jcpdowntown.org
SUMMARY:Adult Education Program: Exploring Jewish Values
DESCRIPTION:JCP members join Rabbi Josh in asking big questions and dive into Jewish values during this four-week class. \nRegister for the classes here!
URL:https://jcpdowntown.org/events/adult-education-program-exploring-jewish-values/2025-10-27/
LOCATION:NY
CATEGORIES:Adult Programming
ATTACH;FMTTYPE=image/png:https://jcpdowntown.org/wp-content/uploads/2025/08/6.png
END:VEVENT
BEGIN:VEVENT
DTSTART;TZID=America/New_York:20251028T123000
DTEND;TZID=America/New_York:20251028T133000
DTSTAMP:20260419T083407
CREATED:20250826T161729Z
LAST-MODIFIED:20250826T161730Z
UID:10000581-1761654600-1761658200@jcpdowntown.org
SUMMARY:Grandparents' Reading Club
DESCRIPTION:
URL:https://jcpdowntown.org/events/grandparents-reading-club/
LOCATION:NY
CATEGORIES:Adult Programming
ATTACH;FMTTYPE=image/png:https://jcpdowntown.org/wp-content/uploads/2025/08/30.png
END:VEVENT
BEGIN:VEVENT
DTSTART;TZID=America/New_York:20251028T190000
DTEND;TZID=America/New_York:20251028T200000
DTSTAMP:20260419T083407
CREATED:20250826T154850Z
LAST-MODIFIED:20251001T180346Z
UID:10000552-1761678000-1761681600@jcpdowntown.org
SUMMARY:Adult B'nai Mitzvah | Hebrew Tutoring
DESCRIPTION:
URL:https://jcpdowntown.org/events/adult-bnai-mitzvah-hebrew/2025-10-28/
LOCATION:NY
CATEGORIES:Adult Programming
ATTACH;FMTTYPE=image/png:https://jcpdowntown.org/wp-content/uploads/2025/08/5.png
END:VEVENT
BEGIN:VEVENT
DTSTART;TZID=America/New_York:20251029T110000
DTEND;TZID=America/New_York:20251029T130000
DTSTAMP:20260419T083407
CREATED:20250926T193148Z
LAST-MODIFIED:20250926T193149Z
UID:10000618-1761735600-1761742800@jcpdowntown.org
SUMMARY:Morning Mah Jongg
DESCRIPTION:Get ready to click those tiles! Learn to play for the very first time\, or brush up on your skills with your JCP friends. We are happy to be partnering again with the wonderful instructors from The Mah Jongg Table. \nTickets are $50 for experienced players\, $100 for lessons. \nRegister here to play!
URL:https://jcpdowntown.org/events/morning-mah-jongg/
LOCATION:6 River Terrace\, Battery Park City
ATTACH;FMTTYPE=image/png:https://jcpdowntown.org/wp-content/uploads/2025/09/mah-jongg-banner.68cad5e7e80387.71105222.png
END:VEVENT
BEGIN:VEVENT
DTSTART;TZID=America/New_York:20251031T114500
DTEND;TZID=America/New_York:20251031T123000
DTSTAMP:20260419T083407
CREATED:20250825T211730Z
LAST-MODIFIED:20251001T162749Z
UID:10000435-1761911100-1761913800@jcpdowntown.org
SUMMARY:Babies & Blessings
DESCRIPTION:Babies and their caregivers gather weekly to sing songs\, read stories\, and dance together. This class is a wonderful introduction to JCP’s preschool and Jewish life programs.
URL:https://jcpdowntown.org/events/babies-blessings-15/2025-10-31/
LOCATION:JCP Lounge\, 146 Duane Street\, New York\, NY\, 10013\, United States
ATTACH;FMTTYPE=image/png:https://jcpdowntown.org/wp-content/uploads/2025/08/7.png
END:VEVENT
BEGIN:VEVENT
DTSTART;TZID=America/New_York:20251031T180000
DTEND;TZID=America/New_York:20251031T184500
DTSTAMP:20260419T083407
CREATED:20250806T212041Z
LAST-MODIFIED:20260403T201103Z
UID:10000469-1761933600-1761936300@jcpdowntown.org
SUMMARY:Friday Evening Shabbat Service
DESCRIPTION:Wind down a busy week with Friday Evening Services. Ground your weekend with calming candlelight\, community connection prayer\, and song.
URL:https://jcpdowntown.org/events/friday-evening-shabbat-service-3-2/2025-10-31/
LOCATION:JCP Lobby | 146 Duane St.
CATEGORIES:Community Events & Volunteering,Jewish Holidays,Shabbat Services
ATTACH;FMTTYPE=image/png:https://jcpdowntown.org/wp-content/uploads/2025/08/12.png
END:VEVENT
BEGIN:VEVENT
DTSTART;TZID=America/New_York:20251102T173000
DTEND;TZID=America/New_York:20251102T193000
DTSTAMP:20260419T083407
CREATED:20251014T174716Z
LAST-MODIFIED:20251028T170354Z
UID:10000628-1762104600-1762111800@jcpdowntown.org
SUMMARY:Highlighting Healers and Hope: A Conversation with Lee Yaron
DESCRIPTION:We are proud to launch a series of talks exploring the stories of Israelis and Jewish Americans who are working to bring healing and resilience to their communities in the aftermath of October 7th. \nIn our first installment of this series we will be having a conversation with Lee Yaron\, an award-winning Israeli journalist\, in conversation with Rabbi Deena Silverstone about her new book 10/7:100. \nLee Yaron is an award-winning Israeli journalist\, author\, and social commentator whose work centers on Israeli society\, regional conflict\, identity\, and reconciliation. Over the years\, she has contributed to publications such as Haaretz\, The Guardian\, The Times of Israel\, and others\, exploring the tensions and hopes within Israeli life. In her writing and public talks\, Yaron addresses themes of trauma\, memory\, resilience\, and the search for meaning in the aftermath of violence. We are honored that she will open our series by sharing her insights—both personal and journalistic—on how individuals and communities navigate loss\, uncertainty\, and the challenging path toward healing. \nThis event is recommended for adults and teenagers. \nThis event is free for JCP members and costs $18/family for non-members. All guests will receive a free copy of Lee’s book. \nPlease register here! \n 
URL:https://jcpdowntown.org/events/highlighting-healers-and-hope-a-conversation-with-lee-yaron/
LOCATION:JCP Downtown | 146 Duane St.\, 146 Duane Street\, New York\, NY\, 10013\, United States
CATEGORIES:Adult Programming,Community Events & Volunteering
ATTACH;FMTTYPE=image/png:https://jcpdowntown.org/wp-content/uploads/2025/10/Event-Banners-Template-2025-14.png
END:VEVENT
BEGIN:VEVENT
DTSTART;TZID=America/New_York:20251103T190000
DTEND;TZID=America/New_York:20251103T203000
DTSTAMP:20260419T083407
CREATED:20250826T121024Z
LAST-MODIFIED:20251001T180217Z
UID:10000513-1762196400-1762201800@jcpdowntown.org
SUMMARY:Adult Education Program: Exploring Jewish Values
DESCRIPTION:JCP members join Rabbi Josh in asking big questions and dive into Jewish values during this four-week class. \nRegister for the classes here!
URL:https://jcpdowntown.org/events/adult-education-program-exploring-jewish-values/2025-11-03/
LOCATION:NY
CATEGORIES:Adult Programming
ATTACH;FMTTYPE=image/png:https://jcpdowntown.org/wp-content/uploads/2025/08/6.png
END:VEVENT
BEGIN:VEVENT
DTSTART;TZID=America/New_York:20251104T190000
DTEND;TZID=America/New_York:20251104T203000
DTSTAMP:20260419T083407
CREATED:20250826T155816Z
LAST-MODIFIED:20250826T155816Z
UID:10000571-1762282800-1762288200@jcpdowntown.org
SUMMARY:Adult B'nai Mitzvah | Session with Rabbi Josh
DESCRIPTION:
URL:https://jcpdowntown.org/events/adult-bnai-mitzvah-session-with-rabbi-josh-3/
LOCATION:NY
CATEGORIES:Adult Programming
ATTACH;FMTTYPE=image/png:https://jcpdowntown.org/wp-content/uploads/2025/08/4.png
END:VEVENT
BEGIN:VEVENT
DTSTART;TZID=America/New_York:20251107T114500
DTEND;TZID=America/New_York:20251107T123000
DTSTAMP:20260419T083407
CREATED:20250825T211730Z
LAST-MODIFIED:20251001T162749Z
UID:10000436-1762515900-1762518600@jcpdowntown.org
SUMMARY:Babies & Blessings
DESCRIPTION:Babies and their caregivers gather weekly to sing songs\, read stories\, and dance together. This class is a wonderful introduction to JCP’s preschool and Jewish life programs.
URL:https://jcpdowntown.org/events/babies-blessings-15/2025-11-07/
LOCATION:JCP Lounge\, 146 Duane Street\, New York\, NY\, 10013\, United States
ATTACH;FMTTYPE=image/png:https://jcpdowntown.org/wp-content/uploads/2025/08/7.png
END:VEVENT
BEGIN:VEVENT
DTSTART;TZID=America/New_York:20251107T180000
DTEND;TZID=America/New_York:20251107T184500
DTSTAMP:20260419T083407
CREATED:20250806T212041Z
LAST-MODIFIED:20260403T201103Z
UID:10000470-1762538400-1762541100@jcpdowntown.org
SUMMARY:Friday Evening Shabbat Service
DESCRIPTION:Wind down a busy week with Friday Evening Services. Ground your weekend with calming candlelight\, community connection prayer\, and song.
URL:https://jcpdowntown.org/events/friday-evening-shabbat-service-3-2/2025-11-07/
LOCATION:JCP Lobby | 146 Duane St.
CATEGORIES:Community Events & Volunteering,Jewish Holidays,Shabbat Services
ATTACH;FMTTYPE=image/png:https://jcpdowntown.org/wp-content/uploads/2025/08/12.png
END:VEVENT
BEGIN:VEVENT
DTSTART;TZID=America/New_York:20251110T190000
DTEND;TZID=America/New_York:20251110T203000
DTSTAMP:20260419T083407
CREATED:20250826T121024Z
LAST-MODIFIED:20251001T180217Z
UID:10000514-1762801200-1762806600@jcpdowntown.org
SUMMARY:Adult Education Program: Exploring Jewish Values
DESCRIPTION:JCP members join Rabbi Josh in asking big questions and dive into Jewish values during this four-week class. \nRegister for the classes here!
URL:https://jcpdowntown.org/events/adult-education-program-exploring-jewish-values/2025-11-10/
LOCATION:NY
CATEGORIES:Adult Programming
ATTACH;FMTTYPE=image/png:https://jcpdowntown.org/wp-content/uploads/2025/08/6.png
END:VEVENT
BEGIN:VEVENT
DTSTART;TZID=America/New_York:20251111T190000
DTEND;TZID=America/New_York:20251111T200000
DTSTAMP:20260419T083407
CREATED:20250826T154850Z
LAST-MODIFIED:20251001T180346Z
UID:10000553-1762887600-1762891200@jcpdowntown.org
SUMMARY:Adult B'nai Mitzvah | Hebrew Tutoring
DESCRIPTION:
URL:https://jcpdowntown.org/events/adult-bnai-mitzvah-hebrew/2025-11-11/
LOCATION:NY
CATEGORIES:Adult Programming
ATTACH;FMTTYPE=image/png:https://jcpdowntown.org/wp-content/uploads/2025/08/5.png
END:VEVENT
BEGIN:VEVENT
DTSTART;TZID=America/New_York:20251112T110000
DTEND;TZID=America/New_York:20251112T123000
DTSTAMP:20260419T083407
CREATED:20250826T140111Z
LAST-MODIFIED:20251112T205025Z
UID:10000530-1762945200-1762950600@jcpdowntown.org
SUMMARY:Women's Torah Study
DESCRIPTION:Join Rabbi Deena and discover the wisdom of Jewish text through thoughtful conversation\, quality time and laughs with fellow JCP women in the community. \nThis scheduled Women’s Torah Study is home hosted. Address available upon RSVP. \nJoin us – register here!
URL:https://jcpdowntown.org/events/womens-torah-study-12/
LOCATION:JCP Downtown | 146 Duane St.\, 146 Duane Street\, New York\, NY\, 10013\, United States
CATEGORIES:Adult Programming
ATTACH;FMTTYPE=image/png:https://jcpdowntown.org/wp-content/uploads/2025/08/1.png
END:VEVENT
BEGIN:VEVENT
DTSTART;TZID=America/New_York:20251113T190000
DTEND;TZID=America/New_York:20251113T220000
DTSTAMP:20260419T083407
CREATED:20251017T172512Z
LAST-MODIFIED:20251017T172512Z
UID:10000632-1763060400-1763071200@jcpdowntown.org
SUMMARY:Guy's Night Out
DESCRIPTION:Guys Night Out is back—and better than ever. Join us for a lively evening of poker\, great food\, and drinks with even more tables this year. Play to win incredible prizes\, including a round of golf at Liberty National and tickets to a New York Jets game! \n  \nRegister Here
URL:https://jcpdowntown.org/events/guys-night-out-3/
LOCATION:Nexus Club | 100 Church St.\, 100 Church Street\, 7th Floor\, New York\, NY\, 10007\, United States
CATEGORIES:Adult Programming,Community Events & Volunteering
ATTACH;FMTTYPE=image/png:https://jcpdowntown.org/wp-content/uploads/2025/10/43.png
END:VEVENT
BEGIN:VEVENT
DTSTART;TZID=America/New_York:20251114T084500
DTEND;TZID=America/New_York:20251114T094500
DTSTAMP:20260419T083407
CREATED:20251112T205827Z
LAST-MODIFIED:20251112T205827Z
UID:10000641-1763109900-1763113500@jcpdowntown.org
SUMMARY:Distribute Winter Wishes
DESCRIPTION:
URL:https://jcpdowntown.org/events/distribute-winter-wishes/
LOCATION:NY
END:VEVENT
BEGIN:VEVENT
DTSTART;TZID=America/New_York:20251114T114500
DTEND;TZID=America/New_York:20251114T123000
DTSTAMP:20260419T083407
CREATED:20250825T211730Z
LAST-MODIFIED:20251001T162749Z
UID:10000437-1763120700-1763123400@jcpdowntown.org
SUMMARY:Babies & Blessings
DESCRIPTION:Babies and their caregivers gather weekly to sing songs\, read stories\, and dance together. This class is a wonderful introduction to JCP’s preschool and Jewish life programs.
URL:https://jcpdowntown.org/events/babies-blessings-15/2025-11-14/
LOCATION:JCP Lounge\, 146 Duane Street\, New York\, NY\, 10013\, United States
ATTACH;FMTTYPE=image/png:https://jcpdowntown.org/wp-content/uploads/2025/08/7.png
END:VEVENT
BEGIN:VEVENT
DTSTART;TZID=America/New_York:20251114T160000
DTEND;TZID=America/New_York:20251114T170000
DTSTAMP:20260419T083407
CREATED:20251028T165425Z
LAST-MODIFIED:20251028T165426Z
UID:10000634-1763136000-1763139600@jcpdowntown.org
SUMMARY:Sunrise Shabbat
DESCRIPTION:JCP students of all ages are welcome to join Rabbi Deena to help lead a meaningful Shabbat service for the residents of Sunrise Battery Park City senior living community. Space is limited. Please register each child and adult that will be attending. This is a free event. \nPlease register here
URL:https://jcpdowntown.org/events/sunrise-shabbat/
LOCATION:455 North End Avenue
CATEGORIES:Shabbat Services
END:VEVENT
BEGIN:VEVENT
DTSTART;TZID=America/New_York:20251114T180000
DTEND;TZID=America/New_York:20251114T184500
DTSTAMP:20260419T083407
CREATED:20250806T212041Z
LAST-MODIFIED:20260403T201103Z
UID:10000471-1763143200-1763145900@jcpdowntown.org
SUMMARY:Friday Evening Shabbat Service
DESCRIPTION:Wind down a busy week with Friday Evening Services. Ground your weekend with calming candlelight\, community connection prayer\, and song.
URL:https://jcpdowntown.org/events/friday-evening-shabbat-service-3-2/2025-11-14/
LOCATION:JCP Lobby | 146 Duane St.
CATEGORIES:Community Events & Volunteering,Jewish Holidays,Shabbat Services
ATTACH;FMTTYPE=image/png:https://jcpdowntown.org/wp-content/uploads/2025/08/12.png
END:VEVENT
BEGIN:VEVENT
DTSTART;TZID=America/New_York:20251115T100000
DTEND;TZID=America/New_York:20251115T110000
DTSTAMP:20260419T083407
CREATED:20250826T125133Z
LAST-MODIFIED:20251111T222516Z
UID:10000520-1763200800-1763204400@jcpdowntown.org
SUMMARY:Tot Shabbat
DESCRIPTION:Join your friends at JCP for a joyful and musical Tot Shabbat morning experience for families with children up to five years of age. Come together for song\, dance\, prayer\, and stories\, followed by grape juice and challah. \nThis is a free event. Please register all children that will be attending; accompany adults do not need to register themselves. We can’t wait to see you there. \nPlease register here! \n 
URL:https://jcpdowntown.org/events/tot-shabbat-11-15/
LOCATION:JCP Downtown | 146 Duane St.\, 146 Duane Street\, New York\, NY\, 10013\, United States
CATEGORIES:Early Childhood,Shabbat Services
ATTACH;FMTTYPE=image/png:https://jcpdowntown.org/wp-content/uploads/2025/08/11.png
END:VEVENT
BEGIN:VEVENT
DTSTART;TZID=America/New_York:20251117T190000
DTEND;TZID=America/New_York:20251117T203000
DTSTAMP:20260419T083407
CREATED:20250826T121024Z
LAST-MODIFIED:20251001T180217Z
UID:10000515-1763406000-1763411400@jcpdowntown.org
SUMMARY:Adult Education Program: Exploring Jewish Values
DESCRIPTION:JCP members join Rabbi Josh in asking big questions and dive into Jewish values during this four-week class. \nRegister for the classes here!
URL:https://jcpdowntown.org/events/adult-education-program-exploring-jewish-values/2025-11-17/
LOCATION:NY
CATEGORIES:Adult Programming
ATTACH;FMTTYPE=image/png:https://jcpdowntown.org/wp-content/uploads/2025/08/6.png
END:VEVENT
BEGIN:VEVENT
DTSTART;TZID=America/New_York:20251118T190000
DTEND;TZID=America/New_York:20251118T200000
DTSTAMP:20260419T083407
CREATED:20250826T154850Z
LAST-MODIFIED:20251001T180346Z
UID:10000554-1763492400-1763496000@jcpdowntown.org
SUMMARY:Adult B'nai Mitzvah | Hebrew Tutoring
DESCRIPTION:
URL:https://jcpdowntown.org/events/adult-bnai-mitzvah-hebrew/2025-11-18/
LOCATION:NY
CATEGORIES:Adult Programming
ATTACH;FMTTYPE=image/png:https://jcpdowntown.org/wp-content/uploads/2025/08/5.png
END:VEVENT
BEGIN:VEVENT
DTSTART;TZID=America/New_York:20251119T190000
DTEND;TZID=America/New_York:20251119T203000
DTSTAMP:20260419T083408
CREATED:20250826T143501Z
LAST-MODIFIED:20250826T143501Z
UID:10000539-1763578800-1763584200@jcpdowntown.org
SUMMARY:Men's Torah Study
DESCRIPTION:Join Rabbi Josh and fellow JCP members for engaging conversations rooted in Jewish texts—big ideas\, real-life relevance\, and good company.
URL:https://jcpdowntown.org/events/mens-torah-study-3/
LOCATION:NY
CATEGORIES:Adult Programming
ATTACH;FMTTYPE=image/png:https://jcpdowntown.org/wp-content/uploads/2025/08/2.png
END:VEVENT
BEGIN:VEVENT
DTSTART;TZID=America/New_York:20251121T114500
DTEND;TZID=America/New_York:20251121T123000
DTSTAMP:20260419T083408
CREATED:20250825T211730Z
LAST-MODIFIED:20251001T162749Z
UID:10000438-1763725500-1763728200@jcpdowntown.org
SUMMARY:Babies & Blessings
DESCRIPTION:Babies and their caregivers gather weekly to sing songs\, read stories\, and dance together. This class is a wonderful introduction to JCP’s preschool and Jewish life programs.
URL:https://jcpdowntown.org/events/babies-blessings-15/2025-11-21/
LOCATION:JCP Lounge\, 146 Duane Street\, New York\, NY\, 10013\, United States
ATTACH;FMTTYPE=image/png:https://jcpdowntown.org/wp-content/uploads/2025/08/7.png
END:VEVENT
BEGIN:VEVENT
DTSTART;TZID=America/New_York:20251121T180000
DTEND;TZID=America/New_York:20251121T184500
DTSTAMP:20260419T083408
CREATED:20250806T212041Z
LAST-MODIFIED:20260403T201103Z
UID:10000472-1763748000-1763750700@jcpdowntown.org
SUMMARY:Friday Evening Shabbat Service
DESCRIPTION:Wind down a busy week with Friday Evening Services. Ground your weekend with calming candlelight\, community connection prayer\, and song.
URL:https://jcpdowntown.org/events/friday-evening-shabbat-service-3-2/2025-11-21/
LOCATION:JCP Lobby | 146 Duane St.
CATEGORIES:Community Events & Volunteering,Jewish Holidays,Shabbat Services
ATTACH;FMTTYPE=image/png:https://jcpdowntown.org/wp-content/uploads/2025/08/12.png
END:VEVENT
END:VCALENDAR