BEGIN:VCALENDAR
VERSION:2.0
PRODID:-//JCP Downtown - ECPv6.15.20//NONSGML v1.0//EN
CALSCALE:GREGORIAN
METHOD:PUBLISH
X-WR-CALNAME:JCP Downtown
X-ORIGINAL-URL:https://jcpdowntown.org
X-WR-CALDESC:Events for JCP Downtown
REFRESH-INTERVAL;VALUE=DURATION:PT1H
X-Robots-Tag:noindex
X-PUBLISHED-TTL:PT1H
BEGIN:VTIMEZONE
TZID:America/New_York
BEGIN:DAYLIGHT
TZOFFSETFROM:-0500
TZOFFSETTO:-0400
TZNAME:EDT
DTSTART:20230312T070000
END:DAYLIGHT
BEGIN:STANDARD
TZOFFSETFROM:-0400
TZOFFSETTO:-0500
TZNAME:EST
DTSTART:20231105T060000
END:STANDARD
BEGIN:DAYLIGHT
TZOFFSETFROM:-0500
TZOFFSETTO:-0400
TZNAME:EDT
DTSTART:20240310T070000
END:DAYLIGHT
BEGIN:STANDARD
TZOFFSETFROM:-0400
TZOFFSETTO:-0500
TZNAME:EST
DTSTART:20241103T060000
END:STANDARD
BEGIN:DAYLIGHT
TZOFFSETFROM:-0500
TZOFFSETTO:-0400
TZNAME:EDT
DTSTART:20250309T070000
END:DAYLIGHT
BEGIN:STANDARD
TZOFFSETFROM:-0400
TZOFFSETTO:-0500
TZNAME:EST
DTSTART:20251102T060000
END:STANDARD
END:VTIMEZONE
BEGIN:VEVENT
DTSTART;TZID=America/New_York:20240201T183000
DTEND;TZID=America/New_York:20240201T230000
DTSTAMP:20260421T085135
CREATED:20240209T135221Z
LAST-MODIFIED:20240209T135225Z
UID:10000171-1706812200-1706828400@jcpdowntown.org
SUMMARY:JCP's Night on Broadway: Prayer for the French Republic
DESCRIPTION:The JCP community is getting together to see Prayer for the French Republic. The 2022 Drama Desk and Outer Critics Circle Award winner for Best Play\, Prayer for the French Republic bursts onto Broadway following its acclaimed\, sold-out Off-Broadway run. We’ll meet before the performance starting at 6:30pm for drinks and light bites before making our way over to the Samuel J. Friedman Theatre for an 8:00pm performance. \nThis event is at capacity. Join the waitlist here.
URL:https://jcpdowntown.org/events/jcp-night-on-broadway-feb-1/
LOCATION:NY
CATEGORIES:Adult Programming,Community Events & Volunteering
ATTACH;FMTTYPE=image/png:https://jcpdowntown.org/wp-content/uploads/2024/01/Night-on-Broadway-Prayer-for-the-French-Republic-1.png
END:VEVENT
BEGIN:VEVENT
DTSTART;TZID=America/New_York:20240202T180000
DTEND;TZID=America/New_York:20240202T190000
DTSTAMP:20260421T085135
CREATED:20240108T184807Z
LAST-MODIFIED:20240208T223046Z
UID:10000168-1706896800-1706900400@jcpdowntown.org
SUMMARY:Friday Evening Shabbat Service
DESCRIPTION:Join Rabbi Deena Silverstone and Musician-in-Residence Molly Rose Hoenig to celebrate Shabbat at 6:00 p.m\, located at 146 Duane Street.
URL:https://jcpdowntown.org/events/friday-evening-shabbat-service-10/
LOCATION:JCP Downtown | 146 Duane St.\, 146 Duane Street\, New York\, NY\, 10013\, United States
CATEGORIES:Community Events & Volunteering,Jewish Holidays,Shabbat Services
ATTACH;FMTTYPE=image/png:https://jcpdowntown.org/wp-content/uploads/2023/08/Friday-Evening-Shabbat-Service.png
END:VEVENT
BEGIN:VEVENT
DTSTART;TZID=America/New_York:20240209T180000
DTEND;TZID=America/New_York:20240209T190000
DTSTAMP:20260421T085135
CREATED:20240108T184921Z
LAST-MODIFIED:20240208T223045Z
UID:10000169-1707501600-1707505200@jcpdowntown.org
SUMMARY:Friday Evening Shabbat Service
DESCRIPTION:Join Rabbi Deena Silverstone and Musician-in-Residence Molly Rose Hoenig to celebrate Shabbat at 6:00 p.m\, located at 146 Duane Street.
URL:https://jcpdowntown.org/events/friday-evening-shabbat-service-11/
LOCATION:JCP Downtown | 146 Duane St.\, 146 Duane Street\, New York\, NY\, 10013\, United States
CATEGORIES:Community Events & Volunteering,Jewish Holidays,Shabbat Services
ATTACH;FMTTYPE=image/png:https://jcpdowntown.org/wp-content/uploads/2023/08/Friday-Evening-Shabbat-Service.png
END:VEVENT
BEGIN:VEVENT
DTSTART;TZID=America/New_York:20240210T100000
DTEND;TZID=America/New_York:20240210T120000
DTSTAMP:20260421T085135
CREATED:20240117T154645Z
LAST-MODIFIED:20240208T223044Z
UID:10000173-1707559200-1707566400@jcpdowntown.org
SUMMARY:Room to Grow Volunteer Opportunity
DESCRIPTION:Adults\, middle schoolers\, and high schoolers can join JCP at Room to Grow’s Family Center in the Bronx to help sort and organize donations. Car pools will be arranged and community service hours are available. Contact kerrygolden@gmail.com for more information.
URL:https://jcpdowntown.org/events/room-to-grow-volunteer-opportunity/
LOCATION:NY
CATEGORIES:Adult Programming,Community Events & Volunteering,K-12 Programming
ATTACH;FMTTYPE=image/png:https://jcpdowntown.org/wp-content/uploads/2024/01/Room-to-Grow-.png
END:VEVENT
BEGIN:VEVENT
DTSTART;TZID=America/New_York:20240213T123000
DTEND;TZID=America/New_York:20240213T133000
DTSTAMP:20260421T085135
CREATED:20240123T183615Z
LAST-MODIFIED:20240208T223044Z
UID:10000175-1707827400-1707831000@jcpdowntown.org
SUMMARY:Grandparent Reading Group
DESCRIPTION:Join other grandparents in the JCP community for an enriching book discussion on Zoom\, led by one of JCP’s rabbis. We will be reading All About Me! by Mel Brooks. \nEmail rabbi@jcpdowntown.org to participate.
URL:https://jcpdowntown.org/events/grandparent-reading-group-feb-2024/
LOCATION:NY
CATEGORIES:Adult Programming,Community Events & Volunteering
ATTACH;FMTTYPE=image/png:https://jcpdowntown.org/wp-content/uploads/2023/08/Grandparent-Reading-Group-3.png
END:VEVENT
BEGIN:VEVENT
DTSTART;TZID=America/New_York:20240214T110000
DTEND;TZID=America/New_York:20240214T120000
DTSTAMP:20260421T085135
CREATED:20240123T184203Z
LAST-MODIFIED:20240208T223043Z
UID:10000176-1707908400-1707912000@jcpdowntown.org
SUMMARY:Women's Torah Study
DESCRIPTION:Our Women’s Torah Study class is back this year at JCP! Join us for meaningful learning and community building in discussions led by one of JCP’s rabbis. \nRegister here.
URL:https://jcpdowntown.org/events/womens-torah-study-feb-2024/
LOCATION:JCP Downtown | 146 Duane St.\, 146 Duane Street\, New York\, NY\, 10013\, United States
CATEGORIES:Adult Programming
ATTACH;FMTTYPE=image/jpeg:https://jcpdowntown.org/wp-content/uploads/2023/08/Womens-Torah-Study-2023-Final_3.jpg
END:VEVENT
BEGIN:VEVENT
DTSTART;TZID=America/New_York:20240215T160000
DTEND;TZID=America/New_York:20240215T170000
DTSTAMP:20260421T085135
CREATED:20231215T210759Z
LAST-MODIFIED:20240213T143057Z
UID:10000166-1708012800-1708016400@jcpdowntown.org
SUMMARY:Sing with Suzi
DESCRIPTION:Attend an interactive and upbeat sing-along starring Suzi Shelton\, an award-winning children’s recording artist! This musical performance is for children up to age five and includes a snack. \nPrice: $36 per family (non-member); JCP members attend for free! Use code ‘MEMBER’ at checkout. \n[wpforms id=”7973″]
URL:https://jcpdowntown.org/events/sing-with-suzi-feb-2024/
LOCATION:JCP Downtown | 146 Duane St.\, 146 Duane Street\, New York\, NY\, 10013\, United States
CATEGORIES:Community Events & Volunteering,Early Childhood
ATTACH;FMTTYPE=image/png:https://jcpdowntown.org/wp-content/uploads/2023/06/SingWithSuziFlyer2023.png
END:VEVENT
BEGIN:VEVENT
DTSTART;TZID=America/New_York:20240216T180000
DTEND;TZID=America/New_York:20240216T183000
DTSTAMP:20260421T085135
CREATED:20240108T185246Z
LAST-MODIFIED:20240108T185246Z
UID:10000170-1708106400-1708108200@jcpdowntown.org
SUMMARY:Instagram Live Shabbat Service
DESCRIPTION:Join our Musician-in-Residence Molly-Rose on Instagram Live to celebrate Shabbat at 6:00 p.m.
URL:https://jcpdowntown.org/events/instagram-live-shabbat-service-13/
LOCATION:NY
CATEGORIES:Community Events & Volunteering,Shabbat Services
ATTACH;FMTTYPE=image/png:https://jcpdowntown.org/wp-content/uploads/2023/01/Friday-Evening-Shabbat-Service.png
END:VEVENT
BEGIN:VEVENT
DTSTART;TZID=America/New_York:20240223T180000
DTEND;TZID=America/New_York:20240223T183000
DTSTAMP:20260421T085135
CREATED:20240205T220554Z
LAST-MODIFIED:20240205T221654Z
UID:10000190-1708711200-1708713000@jcpdowntown.org
SUMMARY:Instagram Live Shabbat Service
DESCRIPTION:Join our Musician-in-Residence Molly-Rose on Instagram Live to celebrate Shabbat at 6:00 p.m.
URL:https://jcpdowntown.org/events/instagram-live-shabbat-service-14/
LOCATION:NY
CATEGORIES:Community Events & Volunteering,Shabbat Services
ATTACH;FMTTYPE=image/png:https://jcpdowntown.org/wp-content/uploads/2023/01/Friday-Evening-Shabbat-Service.png
END:VEVENT
END:VCALENDAR